Workbook

Sheet Rekapitulácia stavby
A1: Export Komplet | BA1: 2.0 | BB1: ZAMOK | BT1: False | BU1: False | BV1: {010c7158-adfd-4b08-853d-2295928231ee}
BS2: 0,001 | BT2: 20
BS3: 0,001 | BT3: 20
D4: REKAPITULÁCIA STAVBY | AS4: v --- nižšie sa nachádzajú doplnkové a pomocné údaje k zostavám --- v | BE4: Návod na vyplnenie | BS4: 0,001
D5: Kód: | K5: 02/04/2018-01 | BE5: Meniť je možné iba bunky so žltým podfarbením!_x000D_ _x000D_ 1) na prvom liste Rekapitulácie stavby vyplňte v zostave_x000D_ _x000D_ a) Rekapitulácia stavby_x000D_ - údaje o Zhotoviteľovi_x000D_ (prenesú sa do ostatných zostáv aj v iných listoch)_x000D_ _x000D_ b) Rekapitulácia objektov stavby_x000D_ - potrebné Ostatné náklady_x000D_ _x000D_ 2) na vybraných listoch vyplňte v zostave_x000D_ _x000D_ a) Krycí list_x000D_ - údaje o Zhotoviteľovi, pokiaľ sa líšia od údajov o Zhotoviteľovi na Rekapitulácii stavby_x000D_ (údaje se prenesú do ostatných zostav v danom liste)_x000D_ _x000D_ b) Rekapitulácia rozpočtu_x000D_ - potrebné Ostatné náklady_x000D_ _x000D_ c) Celkové náklady za stavbu_x000D_ - ceny na položkách_x000D_ - množstvo, pokiaľ má žlté podfarbenie_x000D_ - a v prípade potreby poznámku (tá je v skrytom stĺpci) | BS5: 0,001
D6: Stavba: | K6: Zateplenie skladovaco expedičnej haly v areáli Šambron | BS6: 0,001
D7: JKSO: | K7: 811 79 | AK7: KS: | AN7: 1251 | BS7: 0,001
D8: Miesto: | K8: Plaveč | AK8: Dátum: | BS8: 0,001
BS9: 0,001
D10: Objednávateľ: | AK10: IČO: | AN10: 31679935 | BS10: 0,001
E11: AGROKARPATY, spol. s r. o. Plavnica | AK11: IČ DPH: | AN11: SK 2020525584 | BS11: 0,001
BS12: 0,001
D13: Zhotoviteľ: | AK13: IČO: | AN13: Vyplň údaj | BS13: 0,001
E14: Vyplň údaj | AK14: IČ DPH: | AN14: Vyplň údaj | BS14: 0,001
BS15: False
D16: Projektant: | AK16: IČO: | AN16: 37682075 | BS16: False
E17: Inf. Pavel Fedorko | AK17: IČ DPH: | AN17: SK 1045067012 | BS17: True
BS18: 0,01
D19: Spracovateľ: | AK19: IČO: | AN19: 37682075 | BS19: 0,01
E20: Inf. Pavel Fedorko | AK20: IČ DPH: | AN20: SK 1045067012 | BS20: True
D22: Poznámka:
D26: Cena bez DPH | AK26: =ROUND(AG94,2) -> 0
L28: Sadzba dane | W28: Základ dane | AK28: Výška dane
D29: DPH | F29: základná | L29: 0.2 | W29: =ROUND(AZ94, 2) -> 0 | AK29: =ROUND(AV94, 2) -> 0
F30: znížená | L30: 0.2 | W30: =ROUND(BA94, 2) -> 0 | AK30: =ROUND(AW94, 2) -> 0
F31: zákl. prenesená | L31: 0.2 | W31: =ROUND(BB94, 2) -> 0 | AK31: 0
F32: zníž. prenesená | L32: 0.2 | W32: =ROUND(BC94, 2) -> 0 | AK32: 0
F33: nulová | L33: 0 | W33: =ROUND(BD94, 2) -> 0 | AK33: 0
D35: Cena s DPH | T35: v | X35: EUR | AK35: =SUM(AK26:AK33) -> 0
D49: Projektant | AH49: Spracovateľ
D60: Dátum a podpis: | V60: Pečiatka | AH60: Dátum a podpis: | AM60: Pečiatka
D64: Objednávateľ | AH64: Zhotoviteľ
D75: Dátum a podpis: | V75: Pečiatka | AH75: Dátum a podpis: | AM75: Pečiatka
C82: REKAPITULÁCIA OBJEKTOV STAVBY
C84: Kód: | L84: =K5 -> 02/04/2018-01
C85: Stavba: | L85: =K6 -> Zateplenie skladovaco expedičnej haly v areáli Šambron
C87: Miesto: | L87: =IF(K8="","",K8) -> Plaveč | AI87: Dátum: | AM87: =IF(AN8= "","",AN8)
C89: Objednávateľ: | L89: =IF(E11= "","",E11) -> AGROKARPATY, spol. s r. o. Plavnica | AI89: Projektant: | AM89: =IF(E17="","",E17) -> Inf. Pavel Fedorko | AS89: Informatívne údaje z listov zákaziek
C90: Zhotoviteľ: | L90: =IF(E14= "Vyplň údaj","",E14) | AI90: Spracovateľ: | AM90: =IF(E20="","",E20) -> Inf. Pavel Fedorko
C92: Kód | I92: Popis | AG92: Cena bez DPH [EUR] | AN92: Cena s DPH [EUR] | AQ92: Typ | AS92: z toho Ostat._x000D_ náklady [EUR] | AT92: DPH [EUR] | AU92: Normohodiny [h] | AV92: DPH základná [EUR] | AW92: DPH znížená [EUR] | AX92: DPH základná prenesená_x000D_ [EUR] | AY92: DPH znížená prenesená_x000D_ [EUR] | AZ92: Základňa_x000D_ DPH základná | BA92: Základňa_x000D_ DPH znížená | BB92: Základňa_x000D_ DPH zákl. prenesená | BC92: Základňa_x000D_ DPH zníž. prenesená | BD92: Základňa_x000D_ DPH nulová
...

Sheet ASR - Zateplenie skladova...
AT2: {399b9b14-07e3-47b1-93f6-dc4e4e26425a}
AT3: 0
D4: KRYCÍ LIST ROZPOČTU | M4: v --- nižšie sa nachádzajú doplnkové a pomocné údaje k zostavám --- v | AT4: False
D6: Stavba:
E7: ='Rekapitulácia stavby'!K6 -> Zateplenie skladovaco expedičnej haly v areáli Šambron
D8: Objekt:
E9: ASR - Zateplenie skladovaco expedičnej haly
D11: JKSO: | F11: 811 79 | I11: KS: | J11: 1251
D12: Miesto: | F12: Plaveč | I12: Dátum: | J12: ='Rekapitulácia stavby'!AN8 -> 0
D14: Objednávateľ: | I14: IČO: | J14: 31679935
E15: AGROKARPATY, spol. s r. o. Plavnica | I15: IČ DPH: | J15: SK 2020525584
D17: Zhotoviteľ: | I17: IČO: | J17: ='Rekapitulácia stavby'!AN13 -> Vyplň údaj
E18: ='Rekapitulácia stavby'!E14 -> Vyplň údaj | I18: IČ DPH: | J18: ='Rekapitulácia stavby'!AN14 -> Vyplň údaj
D20: Projektant: | I20: IČO: | J20: 37682075
E21: Inf. Pavel Fedorko | I21: IČ DPH: | J21: SK 1045067012
D23: Spracovateľ: | I23: IČO: | J23: 37682075
E24: Inf. Pavel Fedorko | I24: IČ DPH: | J24: SK 1045067012
D26: Poznámka:
D30: Cena bez DPH | J30: =ROUND(J126, 2) -> 0
F32: Základ dane | I32: Sadzba dane | J32: Výška dane
D33: DPH | E33: základná | F33: =ROUND((ROUND((SUM(BE126:BE171)), 2) + SUM(BE173:BE177)), 2) -> 0 | I33: 0.2 | J33: =ROUND((ROUND(((SUM(BE126:BE171))*I33), 2) + (SUM(BE173:BE177)*I33)), 2) -> 0
E34: znížená | F34: =ROUND((ROUND((SUM(BF126:BF171)), 2) + SUM(BF173:BF177)), 2) -> 0 | I34: 0.2 | J34: =ROUND((ROUND(((SUM(BF126:BF171))*I34), 2) + (SUM(BF173:BF177)*I34)), 2) -> 0
E35: zákl. prenesená | F35: =ROUND((ROUND((SUM(BG126:BG171)), 2) + SUM(BG173:BG177)), 2) -> 0 | I35: 0.2 | J35: =0 -> 0
E36: zníž. prenesená | F36: =ROUND((ROUND((SUM(BH126:BH171)), 2) + SUM(BH173:BH177)), 2) -> 0 | I36: 0.2 | J36: =0 -> 0
E37: nulová | F37: =ROUND((ROUND((SUM(BI126:BI171)), 2) + SUM(BI173:BI177)), 2) -> 0 | I37: 0 | J37: =0 -> 0
D39: Cena s DPH | G39: v | H39: EUR | J39: =SUM(J30:J37) -> 0
D50: Projektant | G50: Spracovateľ
D61: Dátum a podpis: | F61: Pečiatka | G61: Dátum a podpis: | J61: Pečiatka
D65: Objednávateľ | G65: Zhotoviteľ
D76: Dátum a podpis: | F76: Pečiatka | G76: Dátum a podpis: | J76: Pečiatka
C82: REKAPITULÁCIA ROZPOČTU
C84: Stavba:
E85: =E7 -> Zateplenie skladovaco expedičnej haly v areáli Šambron
C86: Objekt:
E87: =E9 -> ASR - Zateplenie skladovaco expedičnej haly
C89: Miesto: | F89: =F12 -> Plaveč | I89: Dátum: | J89: =IF(J12="","",J12) -> 0
C91: Objednávateľ: | F91: =E15 -> AGROKARPATY, spol. s r. o. Plavnica | I91: Projektant: | J91: =E21 -> Inf. Pavel Fedorko
C92: Zhotoviteľ: | F92: =IF(E18="","",E18) -> Vyplň údaj | I92: Spracovateľ: | J92: =E24 -> Inf. Pavel Fedorko
C94: Kód dielu - Popis | J94: Cena celkom [EUR]
C96: Náklady z rozpočtu | J96: =J126 -> 0 | AU96: -1
...

Sheet BL - Bleskozvod
AT2: {341d73d8-ae37-451a-838f-b2622fd0b48d}
AT3: 0
D4: KRYCÍ LIST ROZPOČTU | M4: v --- nižšie sa nachádzajú doplnkové a pomocné údaje k zostavám --- v | AT4: False
D6: Stavba:
E7: ='Rekapitulácia stavby'!K6 -> Zateplenie skladovaco expedičnej haly v areáli Šambron
D8: Objekt:
E9: BL - Bleskozvod
D11: JKSO: | F11: 811 79 | I11: KS: | J11: 1251
D12: Miesto: | F12: Śambron | I12: Dátum: | J12: ='Rekapitulácia stavby'!AN8 -> 0
D14: Objednávateľ: | I14: IČO: | J14: 31679935
E15: AGROKARPATY, spol. s r. o. Plavnica | I15: IČ DPH: | J15: SK 2020525584
D17: Zhotoviteľ: | I17: IČO: | J17: ='Rekapitulácia stavby'!AN13 -> Vyplň údaj
E18: ='Rekapitulácia stavby'!E14 -> Vyplň údaj | I18: IČ DPH: | J18: ='Rekapitulácia stavby'!AN14 -> Vyplň údaj
D20: Projektant: | I20: IČO: | J20: =IF('Rekapitulácia stavby'!AN16="","",'Rekapitulácia stavby'!AN16) -> 37682075
E21: =IF('Rekapitulácia stavby'!E17="","",'Rekapitulácia stavby'!E17) -> Inf. Pavel Fedorko | I21: IČ DPH: | J21: =IF('Rekapitulácia stavby'!AN17="","",'Rekapitulácia stavby'!AN17) -> SK 1045067012
D23: Spracovateľ: | I23: IČO: | J23: 37682075
E24: Ing. Pavel Fedorko | I24: IČ DPH: | J24: SK 1045067012
D26: Poznámka:
D30: Cena bez DPH | J30: =ROUND(J122, 2) -> 0
F32: Základ dane | I32: Sadzba dane | J32: Výška dane
D33: DPH | E33: základná | F33: =ROUND((ROUND((SUM(BE122:BE151)), 2) + SUM(BE153:BE157)), 2) -> 0 | I33: 0.2 | J33: =ROUND((ROUND(((SUM(BE122:BE151))*I33), 2) + (SUM(BE153:BE157)*I33)), 2) -> 0
E34: znížená | F34: =ROUND((ROUND((SUM(BF122:BF151)), 2) + SUM(BF153:BF157)), 2) -> 0 | I34: 0.2 | J34: =ROUND((ROUND(((SUM(BF122:BF151))*I34), 2) + (SUM(BF153:BF157)*I34)), 2) -> 0
E35: zákl. prenesená | F35: =ROUND((ROUND((SUM(BG122:BG151)), 2) + SUM(BG153:BG157)), 2) -> 0 | I35: 0.2 | J35: =0 -> 0
E36: zníž. prenesená | F36: =ROUND((ROUND((SUM(BH122:BH151)), 2) + SUM(BH153:BH157)), 2) -> 0 | I36: 0.2 | J36: =0 -> 0
E37: nulová | F37: =ROUND((ROUND((SUM(BI122:BI151)), 2) + SUM(BI153:BI157)), 2) -> 0 | I37: 0 | J37: =0 -> 0
D39: Cena s DPH | G39: v | H39: EUR | J39: =SUM(J30:J37) -> 0
D50: Projektant | G50: Spracovateľ
D61: Dátum a podpis: | F61: Pečiatka | G61: Dátum a podpis: | J61: Pečiatka
D65: Objednávateľ | G65: Zhotoviteľ
D76: Dátum a podpis: | F76: Pečiatka | G76: Dátum a podpis: | J76: Pečiatka
C82: REKAPITULÁCIA ROZPOČTU
C84: Stavba:
E85: =E7 -> Zateplenie skladovaco expedičnej haly v areáli Šambron
C86: Objekt:
E87: =E9 -> BL - Bleskozvod
C89: Miesto: | F89: =F12 -> Śambron | I89: Dátum: | J89: =IF(J12="","",J12) -> 0
C91: Objednávateľ: | F91: =E15 -> AGROKARPATY, spol. s r. o. Plavnica | I91: Projektant: | J91: =E21 -> Inf. Pavel Fedorko
C92: Zhotoviteľ: | F92: =IF(E18="","",E18) -> Vyplň údaj | I92: Spracovateľ: | J92: =E24 -> Ing. Pavel Fedorko
C94: Kód dielu - Popis | J94: Cena celkom [EUR]
C96: Náklady z rozpočtu | J96: =J122 -> 0 | AU96: -1
...

Sheet Eli - Elektroinštalácia, ...
AT2: {6141783e-e7c6-4ba9-b526-d8d35b003a6f}
AT3: 0
D4: KRYCÍ LIST ROZPOČTU | M4: v --- nižšie sa nachádzajú doplnkové a pomocné údaje k zostavám --- v | AT4: False
D6: Stavba:
E7: ='Rekapitulácia stavby'!K6 -> Zateplenie skladovaco expedičnej haly v areáli Šambron
D8: Objekt:
E9: Eli - Elektroinštalácia, osvetlenie
D11: JKSO: | F11: 811 79 | I11: KS: | J11: 1251
D12: Miesto: | F12: Šambron | I12: Dátum: | J12: ='Rekapitulácia stavby'!AN8 -> 0
D14: Objednávateľ: | I14: IČO: | J14: 31679935
E15: AGROKARPATY, spol. s r. o. Plavnica | I15: IČ DPH: | J15: SK 2020525584
D17: Zhotoviteľ: | I17: IČO: | J17: ='Rekapitulácia stavby'!AN13 -> Vyplň údaj
E18: ='Rekapitulácia stavby'!E14 -> Vyplň údaj | I18: IČ DPH: | J18: ='Rekapitulácia stavby'!AN14 -> Vyplň údaj
D20: Projektant: | I20: IČO: | J20: =IF('Rekapitulácia stavby'!AN16="","",'Rekapitulácia stavby'!AN16) -> 37682075
E21: =IF('Rekapitulácia stavby'!E17="","",'Rekapitulácia stavby'!E17) -> Inf. Pavel Fedorko | I21: IČ DPH: | J21: =IF('Rekapitulácia stavby'!AN17="","",'Rekapitulácia stavby'!AN17) -> SK 1045067012
D23: Spracovateľ: | I23: IČO: | J23: 37682075
E24: Ing. Pavel Fedorko | I24: IČ DPH: | J24: SK 1045067012
D26: Poznámka:
D30: Cena bez DPH | J30: =ROUND(J121, 2) -> 0
F32: Základ dane | I32: Sadzba dane | J32: Výška dane
D33: DPH | E33: základná | F33: =ROUND((ROUND((SUM(BE121:BE172)), 2) + SUM(BE174:BE178)), 2) -> 0 | I33: 0.2 | J33: =ROUND((ROUND(((SUM(BE121:BE172))*I33), 2) + (SUM(BE174:BE178)*I33)), 2) -> 0
E34: znížená | F34: =ROUND((ROUND((SUM(BF121:BF172)), 2) + SUM(BF174:BF178)), 2) -> 0 | I34: 0.2 | J34: =ROUND((ROUND(((SUM(BF121:BF172))*I34), 2) + (SUM(BF174:BF178)*I34)), 2) -> 0
E35: zákl. prenesená | F35: =ROUND((ROUND((SUM(BG121:BG172)), 2) + SUM(BG174:BG178)), 2) -> 0 | I35: 0.2 | J35: =0 -> 0
E36: zníž. prenesená | F36: =ROUND((ROUND((SUM(BH121:BH172)), 2) + SUM(BH174:BH178)), 2) -> 0 | I36: 0.2 | J36: =0 -> 0
E37: nulová | F37: =ROUND((ROUND((SUM(BI121:BI172)), 2) + SUM(BI174:BI178)), 2) -> 0 | I37: 0 | J37: =0 -> 0
D39: Cena s DPH | G39: v | H39: EUR | J39: =SUM(J30:J37) -> 0
D50: Projektant | G50: Spracovateľ
D61: Dátum a podpis: | F61: Pečiatka | G61: Dátum a podpis: | J61: Pečiatka
D65: Objednávateľ | G65: Zhotoviteľ
D76: Dátum a podpis: | F76: Pečiatka | G76: Dátum a podpis: | J76: Pečiatka
C82: REKAPITULÁCIA ROZPOČTU
C84: Stavba:
E85: =E7 -> Zateplenie skladovaco expedičnej haly v areáli Šambron
C86: Objekt:
E87: =E9 -> Eli - Elektroinštalácia, osvetlenie
C89: Miesto: | F89: =F12 -> Šambron | I89: Dátum: | J89: =IF(J12="","",J12) -> 0
C91: Objednávateľ: | F91: =E15 -> AGROKARPATY, spol. s r. o. Plavnica | I91: Projektant: | J91: =E21 -> Inf. Pavel Fedorko
C92: Zhotoviteľ: | F92: =IF(E18="","",E18) -> Vyplň údaj | I92: Spracovateľ: | J92: =E24 -> Ing. Pavel Fedorko
C94: Kód dielu - Popis | J94: Cena celkom [EUR]
C96: Náklady z rozpočtu | J96: =J121 -> 0 | AU96: -1
...
