Workbook

Sheet Rekapitulácia stavby
A1: Export Komplet | BA1: 2.0 | BB1: ZAMOK | BT1: False | BU1: False | BV1: {010c7158-adfd-4b08-853d-2295928231ee}
BS2: 0,001 | BT2: 20
BS3: 0,001 | BT3: 20
D4: REKAPITULÁCIA STAVBY | AS4: v --- nižšie sa nachádzajú doplnkové a pomocné údaje k zostavám --- v | BE4: Návod na vyplnenie | BS4: 0,001
D5: Kód: | K5: 02/04/2018-01 | BE5: Meniť je možné iba bunky so žltým podfarbením!_x000D_ _x000D_ 1) na prvom liste Rekapitulácie stavby vyplňte v zostave_x000D_ _x000D_ a) Rekapitulácia stavby_x000D_ - údaje o Zhotoviteľovi_x000D_ (prenesú sa do ostatných zostáv aj v iných listoch)_x000D_ _x000D_ b) Rekapitulácia objektov stavby_x000D_ - potrebné Ostatné náklady_x000D_ _x000D_ 2) na vybraných listoch vyplňte v zostave_x000D_ _x000D_ a) Krycí list_x000D_ - údaje o Zhotoviteľovi, pokiaľ sa líšia od údajov o Zhotoviteľovi na Rekapitulácii stavby_x000D_ (údaje se prenesú do ostatných zostav v danom liste)_x000D_ _x000D_ b) Rekapitulácia rozpočtu_x000D_ - potrebné Ostatné náklady_x000D_ _x000D_ c) Celkové náklady za stavbu_x000D_ - ceny na položkách_x000D_ - množstvo, pokiaľ má žlté podfarbenie_x000D_ - a v prípade potreby poznámku (tá je v skrytom stĺpci) | BS5: 0,001
D6: Stavba: | K6: Zateplenie skladovaco expedičnej haly v areáli Šambron | BS6: 0,001
D7: JKSO: | K7: 811 79 | AK7: KS: | AN7: 1251 | BS7: 0,001
D8: Miesto: | K8: Plaveč | AK8: Dátum: | BS8: 0,001
BS9: 0,001
D10: Objednávateľ: | AK10: IČO: | AN10: 31679935 | BS10: 0,001
E11: AGROKARPATY, spol. s r. o. Plavnica | AK11: IČ DPH: | AN11: SK 2020525584 | BS11: 0,001
BS12: 0,001
D13: Zhotoviteľ: | AK13: IČO: | AN13: Vyplň údaj | BS13: 0,001
E14: Vyplň údaj | AK14: IČ DPH: | AN14: Vyplň údaj | BS14: 0,001
BS15: False
D16: Projektant: | AK16: IČO: | AN16: 37682075 | BS16: False
E17: Inf. Pavel Fedorko | AK17: IČ DPH: | AN17: SK 1045067012 | BS17: True
BS18: 0,01
D19: Spracovateľ: | AK19: IČO: | AN19: 37682075 | BS19: 0,01
E20: Inf. Pavel Fedorko | AK20: IČ DPH: | AN20: SK 1045067012 | BS20: True
D22: Poznámka:
D26: Cena bez DPH | AK26: =ROUND(AG94,2) -> 0
L28: Sadzba dane | W28: Základ dane | AK28: Výška dane
D29: DPH | F29: základná | L29: 0.2 | W29: =ROUND(AZ94, 2) -> 0 | AK29: =ROUND(AV94, 2) -> 0
F30: znížená | L30: 0.2 | W30: =ROUND(BA94, 2) -> 0 | AK30: =ROUND(AW94, 2) -> 0
F31: zákl. prenesená | L31: 0.2 | W31: =ROUND(BB94, 2) -> 0 | AK31: 0
F32: zníž. prenesená | L32: 0.2 | W32: =ROUND(BC94, 2) -> 0 | AK32: 0
F33: nulová | L33: 0 | W33: =ROUND(BD94, 2) -> 0 | AK33: 0
D35: Cena s DPH | T35: v | X35: EUR | AK35: =SUM(AK26:AK33) -> 0
D49: Projektant | AH49: Spracovateľ
D60: Dátum a podpis: | V60: Pečiatka | AH60: Dátum a podpis: | AM60: Pečiatka
D64: Objednávateľ | AH64: Zhotoviteľ
D75: Dátum a podpis: | V75: Pečiatka | AH75: Dátum a podpis: | AM75: Pečiatka
C82: REKAPITULÁCIA OBJEKTOV STAVBY
C84: Kód: | L84: =K5 -> 02/04/2018-01
C85: Stavba: | L85: =K6 -> Zateplenie skladovaco expedičnej haly v areáli Šambron
C87: Miesto: | L87: =IF(K8="","",K8) -> Plaveč | AI87: Dátum: | AM87: =IF(AN8= "","",AN8)
C89: Objednávateľ: | L89: =IF(E11= "","",E11) -> AGROKARPATY, spol. s r. o. Plavnica | AI89: Projektant: | AM89: =IF(E17="","",E17) -> Inf. Pavel Fedorko | AS89: Informatívne údaje z listov zákaziek
C90: Zhotoviteľ: | L90: =IF(E14= "Vyplň údaj","",E14) | AI90: Spracovateľ: | AM90: =IF(E20="","",E20) -> Inf. Pavel Fedorko
C92: Kód | I92: Popis | AG92: Cena bez DPH [EUR] | AN92: Cena s DPH [EUR] | AQ92: Typ | AS92: z toho Ostat._x000D_ náklady [EUR] | AT92: DPH [EUR] | AU92: Normohodiny [h] | AV92: DPH základná [EUR] | AW92: DPH znížená [EUR] | AX92: DPH základná prenesená_x000D_ [EUR] | AY92: DPH znížená prenesená_x000D_ [EUR] | AZ92: Základňa_x000D_ DPH základná | BA92: Základňa_x000D_ DPH znížená | BB92: Základňa_x000D_ DPH zákl. prenesená | BC92: Základňa_x000D_ DPH zníž. prenesená | BD92: Základňa_x000D_ DPH nulová
C94: Náklady z rozpočtov | AG94: =ROUND(SUM(AG95:AG97),2) -> 0 | AN94: =SUM(AG94,AT94) -> 0 | AS94: =ROUND(SUM(AS95:AS97),2) -> 0 | AT94: =ROUND(SUM(AV94:AW94),2) -> 0 | AU94: =ROUND(SUM(AU95:AU97),5) -> 0 | AV94: =ROUND(AZ94*L29,2) -> 0 | AW94: =ROUND(BA94*L30,2) -> 0 | AX94: =ROUND(BB94*L29,2) -> 0 | AY94: =ROUND(BC94*L30,2) -> 0 | AZ94: =ROUND(SUM(AZ95:AZ97),2) -> 0 | BA94: =ROUND(SUM(BA95:BA97),2) -> 0 | BB94: =ROUND(SUM(BB95:BB97),2) -> 0 | BC94: =ROUND(SUM(BC95:BC97),2) -> 0 | BD94: =ROUND(SUM(BD95:BD97),2) -> 0 | BS94: D | BT94: 0 | BU94: ###NOIMPORT### | BV94: IMPORT | BW94: {010c7158-adfd-4b08-853d-2295928231ee} | BX94: {00000000-0000-0000-0000-000000000000} | CL94: 811 79
A95: / | D95: ASR | J95: Zateplenie skladovaco expedičnej haly | AG95: ='ASR - Zateplenie skladova...'!J30 -> 0 | AN95: =SUM(AG95,AT95) -> 0 | AQ95: STA | AS95: 0 | AT95: =ROUND(SUM(AV95:AW95),2) -> 0 | AU95: ='ASR - Zateplenie skladova...'!P126 -> 0 | AV95: ='ASR - Zateplenie skladova...'!J33 -> 0 | AW95: ='ASR - Zateplenie skladova...'!J34 -> 0 | AX95: ='ASR - Zateplenie skladova...'!J35 -> 0 | AY95: ='ASR - Zateplenie skladova...'!J36 -> 0 | AZ95: ='ASR - Zateplenie skladova...'!F33 -> 0 | BA95: ='ASR - Zateplenie skladova...'!F34 -> 0 | BB95: ='ASR - Zateplenie skladova...'!F35 -> 0 | BC95: ='ASR - Zateplenie skladova...'!F36 -> 0 | BD95: ='ASR - Zateplenie skladova...'!F37 -> 0 | BT95: 1 | BV95: IMPORT | BW95: {399b9b14-07e3-47b1-93f6-dc4e4e26425a} | BX95: {010c7158-adfd-4b08-853d-2295928231ee} | CL95: 811 79 | CM95: 0
A96: / | D96: BL | J96: Bleskozvod | AG96: ='BL - Bleskozvod'!J30 -> 0 | AN96: =SUM(AG96,AT96) -> 0 | AQ96: STA | AS96: 0 | AT96: =ROUND(SUM(AV96:AW96),2) -> 0 | AU96: ='BL - Bleskozvod'!P122 -> 0 | AV96: ='BL - Bleskozvod'!J33 -> 0 | AW96: ='BL - Bleskozvod'!J34 -> 0 | AX96: ='BL - Bleskozvod'!J35 -> 0 | AY96: ='BL - Bleskozvod'!J36 -> 0 | AZ96: ='BL - Bleskozvod'!F33 -> 0 | BA96: ='BL - Bleskozvod'!F34 -> 0 | BB96: ='BL - Bleskozvod'!F35 -> 0 | BC96: ='BL - Bleskozvod'!F36 -> 0 | BD96: ='BL - Bleskozvod'!F37 -> 0 | BT96: 1 | BV96: IMPORT | BW96: {341d73d8-ae37-451a-838f-b2622fd0b48d} | BX96: {010c7158-adfd-4b08-853d-2295928231ee} | CL96: 811 79 | CM96: 0
A97: / | D97: Eli | J97: Elektroinštalácia, osvetlenie | AG97: ='Eli - Elektroinštalácia, ...'!J30 -> 0 | AN97: =SUM(AG97,AT97) -> 0 | AQ97: STA | AS97: 0 | AT97: =ROUND(SUM(AV97:AW97),2) -> 0 | AU97: ='Eli - Elektroinštalácia, ...'!P121 -> 0 | AV97: ='Eli - Elektroinštalácia, ...'!J33 -> 0 | AW97: ='Eli - Elektroinštalácia, ...'!J34 -> 0 | AX97: ='Eli - Elektroinštalácia, ...'!J35 -> 0 | AY97: ='Eli - Elektroinštalácia, ...'!J36 -> 0 | AZ97: ='Eli - Elektroinštalácia, ...'!F33 -> 0 | BA97: ='Eli - Elektroinštalácia, ...'!F34 -> 0 | BB97: ='Eli - Elektroinštalácia, ...'!F35 -> 0 | BC97: ='Eli - Elektroinštalácia, ...'!F36 -> 0 | BD97: ='Eli - Elektroinštalácia, ...'!F37 -> 0 | BT97: 1 | BV97: IMPORT | BW97: {6141783e-e7c6-4ba9-b526-d8d35b003a6f} | BX97: {010c7158-adfd-4b08-853d-2295928231ee} | CL97: 811 79 | CM97: 0

Sheet ASR - Zateplenie skladova...
AT2: {399b9b14-07e3-47b1-93f6-dc4e4e26425a}
AT3: 0
D4: KRYCÍ LIST ROZPOČTU | M4: v --- nižšie sa nachádzajú doplnkové a pomocné údaje k zostavám --- v | AT4: False
D6: Stavba:
E7: ='Rekapitulácia stavby'!K6 -> Zateplenie skladovaco expedičnej haly v areáli Šambron
D8: Objekt:
E9: ASR - Zateplenie skladovaco expedičnej haly
D11: JKSO: | F11: 811 79 | I11: KS: | J11: 1251
D12: Miesto: | F12: Plaveč | I12: Dátum: | J12: ='Rekapitulácia stavby'!AN8 -> 0
D14: Objednávateľ: | I14: IČO: | J14: 31679935
E15: AGROKARPATY, spol. s r. o. Plavnica | I15: IČ DPH: | J15: SK 2020525584
D17: Zhotoviteľ: | I17: IČO: | J17: ='Rekapitulácia stavby'!AN13 -> Vyplň údaj
E18: ='Rekapitulácia stavby'!E14 -> Vyplň údaj | I18: IČ DPH: | J18: ='Rekapitulácia stavby'!AN14 -> Vyplň údaj
D20: Projektant: | I20: IČO: | J20: 37682075
E21: Inf. Pavel Fedorko | I21: IČ DPH: | J21: SK 1045067012
D23: Spracovateľ: | I23: IČO: | J23: 37682075
E24: Inf. Pavel Fedorko | I24: IČ DPH: | J24: SK 1045067012
D26: Poznámka:
D30: Cena bez DPH | J30: =ROUND(J126, 2) -> 0
F32: Základ dane | I32: Sadzba dane | J32: Výška dane
D33: DPH | E33: základná | F33: =ROUND((ROUND((SUM(BE126:BE171)), 2) + SUM(BE173:BE177)), 2) -> 0 | I33: 0.2 | J33: =ROUND((ROUND(((SUM(BE126:BE171))*I33), 2) + (SUM(BE173:BE177)*I33)), 2) -> 0
E34: znížená | F34: =ROUND((ROUND((SUM(BF126:BF171)), 2) + SUM(BF173:BF177)), 2) -> 0 | I34: 0.2 | J34: =ROUND((ROUND(((SUM(BF126:BF171))*I34), 2) + (SUM(BF173:BF177)*I34)), 2) -> 0
E35: zákl. prenesená | F35: =ROUND((ROUND((SUM(BG126:BG171)), 2) + SUM(BG173:BG177)), 2) -> 0 | I35: 0.2 | J35: =0 -> 0
E36: zníž. prenesená | F36: =ROUND((ROUND((SUM(BH126:BH171)), 2) + SUM(BH173:BH177)), 2) -> 0 | I36: 0.2 | J36: =0 -> 0
E37: nulová | F37: =ROUND((ROUND((SUM(BI126:BI171)), 2) + SUM(BI173:BI177)), 2) -> 0 | I37: 0 | J37: =0 -> 0
D39: Cena s DPH | G39: v | H39: EUR | J39: =SUM(J30:J37) -> 0
D50: Projektant | G50: Spracovateľ
D61: Dátum a podpis: | F61: Pečiatka | G61: Dátum a podpis: | J61: Pečiatka
D65: Objednávateľ | G65: Zhotoviteľ
D76: Dátum a podpis: | F76: Pečiatka | G76: Dátum a podpis: | J76: Pečiatka
C82: REKAPITULÁCIA ROZPOČTU
C84: Stavba:
E85: =E7 -> Zateplenie skladovaco expedičnej haly v areáli Šambron
C86: Objekt:
E87: =E9 -> ASR - Zateplenie skladovaco expedičnej haly
C89: Miesto: | F89: =F12 -> Plaveč | I89: Dátum: | J89: =IF(J12="","",J12) -> 0
C91: Objednávateľ: | F91: =E15 -> AGROKARPATY, spol. s r. o. Plavnica | I91: Projektant: | J91: =E21 -> Inf. Pavel Fedorko
C92: Zhotoviteľ: | F92: =IF(E18="","",E18) -> Vyplň údaj | I92: Spracovateľ: | J92: =E24 -> Inf. Pavel Fedorko
C94: Kód dielu - Popis | J94: Cena celkom [EUR]
C96: Náklady z rozpočtu | J96: =J126 -> 0 | AU96: -1
D97: HSV - Práce a dodávky HSV | J97: =J127 -> 0
D98: 6 - Úpravy povrchov, podlahy, osadenie | J98: =J128 -> 0
D99: 9 - Ostatné konštrukcie a práce-búranie | J99: =J137 -> 0
D100: 99 - Presun hmôt HSV | J100: =J153 -> 0
D101: PSV - Práce a dodávky PSV | J101: =J156 -> 0
D102: 713 - Izolácie tepelné | J102: =J157 -> 0
D103: 764 - Konštrukcie klampiarske | J103: =J160 -> 0
D104: 766 - Konštrukcie stolárske | J104: =J163 -> 0
D105: 767 - Konštrukcie doplnkové kovové | J105: =J166 -> 0
D106: VP - Práce naviac | J106: =J172 -> 0
C113: ROZPOČET
C115: Stavba:
E116: =E7 -> Zateplenie skladovaco expedičnej haly v areáli Šambron
C117: Objekt:
E118: =E9 -> ASR - Zateplenie skladovaco expedičnej haly
C120: Miesto: | F120: =F12 -> Plaveč | I120: Dátum: | J120: =IF(J12="","",J12) -> 0
C122: Objednávateľ: | F122: =E15 -> AGROKARPATY, spol. s r. o. Plavnica | I122: Projektant: | J122: =E21 -> Inf. Pavel Fedorko
C123: Zhotoviteľ: | F123: =IF(E18="","",E18) -> Vyplň údaj | I123: Spracovateľ: | J123: =E24 -> Inf. Pavel Fedorko
C125: PČ | D125: Typ | E125: Kód | F125: Popis | G125: MJ | H125: Množstvo | I125: J.cena [EUR] | J125: Cena celkom [EUR] | K125: Cenová sústava | N125: DPH | O125: J. Nh [h] | P125: Nh celkom [h] | Q125: J. hmotnosť [t] | R125: Hmotnosť celkom [t] | S125: J. suť [t] | T125: Suť Celkom [t] | U125: Dodávateľ
C126: Náklady z rozpočtu | J126: =BK126 -> 0 | P126: =P127+P156+P172 -> 0 | R126: =R127+R156+R172 -> 91.303192 | T126: =T127+T156+T172 -> 1.8583215 | AT126: D | AU126: -1 | BK126: =BK127+BK156+BK172 -> 0
D127: D | E127: HSV | F127: Práce a dodávky HSV | J127: =BK127 -> 0 | P127: =P128+P137+P153 -> 0 | R127: =R128+R137+R153 -> 86.011185 | T127: =T128+T137+T153 -> 1.842 | AR127: 1 | AT127: D | AU127: 0 | AY127: ROZPOCET | BK127: =BK128+BK137+BK153 -> 0
D128: D | E128: 6 | F128: Úpravy povrchov, podlahy, osadenie | J128: =BK128 -> 0 | P128: =SUM(P129:P136) -> 0 | R128: =SUM(R129:R136) -> 24.293433 | T128: =SUM(T129:T136) -> 0 | AR128: 1 | AT128: D | AU128: 1 | AY128: ROZPOCET | BK128: =SUM(BK129:BK136) -> 0
C129: 3 | D129: K | E129: 622464232 | F129: Vonkajšia omietka stien tenkovrstvová BAUMIT, silikónová, Silikónová omietka (Baumit SilikonTop), škrabaná, hr. 2 mm | G129: m2 | H129: 480.64 | J129: =ROUND(I129*H129,3) -> 0 | K129: CS Cenekon 2014 02 | N129: znížená | P129: =O129*H129 -> 0 | Q129: 0.0033 | R129: =Q129*H129 -> 1.586112 | S129: 0 | T129: =S129*H129 -> 0 | AR129: 4 | AT129: K | AU129: 2 | AY129: ROZPOCET | BE129: =IF(N129="základná",J129,0) -> 0 | BF129: =IF(N129="znížená",J129,0) -> 0 | BG129: =IF(N129="zákl. prenesená",J129,0) -> 0 | BH129: =IF(N129="zníž. prenesená",J129,0) -> 0 | BI129: =IF(N129="nulová",J129,0) -> 0 | BJ129: 2 | BK129: =ROUND(I129*H129,3) -> 0 | BL129: 4 | BM129: -791655828
C130: 4 | D130: K | E130: 622464310 | F130: Vonkajšia omietka stien mozaiková BAUMIT, ručné miešanie a nanášanie, Baumit Mozaiková omietka (Baumit MosaikTop) | G130: m2 | H130: 154.83 | J130: =ROUND(I130*H130,3) -> 0 | K130: CS Cenekon 2014 02 | N130: znížená | P130: =O130*H130 -> 0 | Q130: 0.0059 | R130: =Q130*H130 -> 0.913497 | S130: 0 | T130: =S130*H130 -> 0 | AR130: 4 | AT130: K | AU130: 2 | AY130: ROZPOCET | BE130: =IF(N130="základná",J130,0) -> 0 | BF130: =IF(N130="znížená",J130,0) -> 0 | BG130: =IF(N130="zákl. prenesená",J130,0) -> 0 | BH130: =IF(N130="zníž. prenesená",J130,0) -> 0 | BI130: =IF(N130="nulová",J130,0) -> 0 | BJ130: 2 | BK130: =ROUND(I130*H130,3) -> 0 | BL130: 4 | BM130: 641703356
C131: 5 | D131: K | E131: 622466118 | F131: Príprava vonkajšieho podkladu stien BAUMIT, Uzatvárací základ (Baumit SperrGrund) | G131: m2 | H131: 635.5 | J131: =ROUND(I131*H131,3) -> 0 | K131: CS CENEKON 2018 01 | N131: znížená | P131: =O131*H131 -> 0 | Q131: 0.00053 | R131: =Q131*H131 -> 0.336815 | S131: 0 | T131: =S131*H131 -> 0 | AR131: 4 | AT131: K | AU131: 2 | AY131: ROZPOCET | BE131: =IF(N131="základná",J131,0) -> 0 | BF131: =IF(N131="znížená",J131,0) -> 0 | BG131: =IF(N131="zákl. prenesená",J131,0) -> 0 | BH131: =IF(N131="zníž. prenesená",J131,0) -> 0 | BI131: =IF(N131="nulová",J131,0) -> 0 | BJ131: 2 | BK131: =ROUND(I131*H131,3) -> 0 | BL131: 4 | BM131: -1597825357
C132: 6 | D132: K | E132: 622481119 | F132: Potiahnutie vonkajších stien, sklotextílnou mriežkou | G132: m2 | H132: 233.92 | J132: =ROUND(I132*H132,3) -> 0 | K132: CS Cenekon 2010 01 | N132: znížená | P132: =O132*H132 -> 0 | Q132: 0.00511 | R132: =Q132*H132 -> 1.1953312 | S132: 0 | T132: =S132*H132 -> 0 | AR132: 4 | AT132: K | AU132: 2 | AY132: ROZPOCET | BE132: =IF(N132="základná",J132,0) -> 0 | BF132: =IF(N132="znížená",J132,0) -> 0 | BG132: =IF(N132="zákl. prenesená",J132,0) -> 0 | BH132: =IF(N132="zníž. prenesená",J132,0) -> 0 | BI132: =IF(N132="nulová",J132,0) -> 0 | BJ132: 2 | BK132: =ROUND(I132*H132,3) -> 0 | BL132: 4 | BM132: -153066539
C133: 8 | D133: M | E133: 311950002600 | F133: Zátka STR z minerálnej vlny MW, STR U, EJOT | G133: ks | H133: 3813 | J133: =ROUND(I133*H133,3) -> 0 | K133: CS CENEKON 2018 01 | N133: znížená | P133: =O133*H133 -> 0 | Q133: 1e-05 | R133: =Q133*H133 -> 0.03813 | S133: 0 | T133: =S133*H133 -> 0 | AR133: 8 | AT133: M | AU133: 2 | AY133: ROZPOCET | BE133: =IF(N133="základná",J133,0) -> 0 | BF133: =IF(N133="znížená",J133,0) -> 0 | BG133: =IF(N133="zákl. prenesená",J133,0) -> 0 | BH133: =IF(N133="zníž. prenesená",J133,0) -> 0 | BI133: =IF(N133="nulová",J133,0) -> 0 | BJ133: 2 | BK133: =ROUND(I133*H133,3) -> 0 | BL133: 4 | BM133: 1572165811
C134: 9 | D134: K | E134: 625251435 | F134: Kontaktný zatepľovací systém podzemných stien hr. 100 mm BAUMIT STAR (EPS-PERIMETER), skrutkovacie kotvy | G134: m2 | H134: 153.83 | J134: =ROUND(I134*H134,3) -> 0 | K134: CS Cenekon 2014 02 | N134: znížená | P134: =O134*H134 -> 0 | Q134: 0.01241 | R134: =Q134*H134 -> 1.9090303 | S134: 0 | T134: =S134*H134 -> 0 | AR134: 4 | AT134: K | AU134: 2 | AY134: ROZPOCET | BE134: =IF(N134="základná",J134,0) -> 0 | BF134: =IF(N134="znížená",J134,0) -> 0 | BG134: =IF(N134="zákl. prenesená",J134,0) -> 0 | BH134: =IF(N134="zníž. prenesená",J134,0) -> 0 | BI134: =IF(N134="nulová",J134,0) -> 0 | BJ134: 2 | BK134: =ROUND(I134*H134,3) -> 0 | BL134: 4 | BM134: 1591071398
C135: 46 | D135: K | E135: 625251601 | F135: Kontaktný zatepľovací systém hr. 180 mm BAUMIT PRO - minerálne riešenie, zatĺkacie kotvy | G135: m2 | H135: 480.64 | J135: =ROUND(I135*H135,3) -> 0 | K135: CS CENEKON 2018 01 | N135: znížená | P135: =O135*H135 -> 0 | Q135: 0.03743 | R135: =Q135*H135 -> 17.990355 | S135: 0 | T135: =S135*H135 -> 0 | AR135: 4 | AT135: K | AU135: 2 | AY135: ROZPOCET | BE135: =IF(N135="základná",J135,0) -> 0 | BF135: =IF(N135="znížená",J135,0) -> 0 | BG135: =IF(N135="zákl. prenesená",J135,0) -> 0 | BH135: =IF(N135="zníž. prenesená",J135,0) -> 0 | BI135: =IF(N135="nulová",J135,0) -> 0 | BJ135: 2 | BK135: =ROUND(I135*H135,3) -> 0 | BL135: 4 | BM135: -1392496646
C136: 12 | D136: K | E136: 625251612 | F136: Kontaktný zatepľovací systém ostenia hr. 30 mm BAUMIT PRO - minerálne riešenie | G136: m2 | H136: 17.4 | J136: =ROUND(I136*H136,3) -> 0 | K136: CS CENEKON 2018 01 | N136: znížená | P136: =O136*H136 -> 0 | Q136: 0.01863 | R136: =Q136*H136 -> 0.324162 | S136: 0 | T136: =S136*H136 -> 0 | AR136: 4 | AT136: K | AU136: 2 | AY136: ROZPOCET | BE136: =IF(N136="základná",J136,0) -> 0 | BF136: =IF(N136="znížená",J136,0) -> 0 | BG136: =IF(N136="zákl. prenesená",J136,0) -> 0 | BH136: =IF(N136="zníž. prenesená",J136,0) -> 0 | BI136: =IF(N136="nulová",J136,0) -> 0 | BJ136: 2 | BK136: =ROUND(I136*H136,3) -> 0 | BL136: 4 | BM136: 877331657
D137: D | E137: 9 | F137: Ostatné konštrukcie a práce-búranie | J137: =BK137 -> 0 | P137: =SUM(P138:P152) -> 0 | R137: =SUM(R138:R152) -> 61.717753 | T137: =SUM(T138:T152) -> 1.842 | AR137: 1 | AT137: D | AU137: 1 | AY137: ROZPOCET | BK137: =SUM(BK138:BK152) -> 0
C138: 16 | D138: K | E138: 942941021 | F138: Montáž lešenia ťažkého radového s podlahami, šírky od 2,00 do 2,50 m, pri zaťažení do 3 kPa, výšky do 10 m | G138: m2 | H138: 538.98 | J138: =ROUND(I138*H138,3) -> 0 | N138: znížená | P138: =O138*H138 -> 0 | Q138: 0.03858877 | R138: =Q138*H138 -> 20.798575 | S138: 0 | T138: =S138*H138 -> 0 | AR138: 4 | AT138: K | AU138: 2 | AY138: ROZPOCET | BE138: =IF(N138="základná",J138,0) -> 0 | BF138: =IF(N138="znížená",J138,0) -> 0 | BG138: =IF(N138="zákl. prenesená",J138,0) -> 0 | BH138: =IF(N138="zníž. prenesená",J138,0) -> 0 | BI138: =IF(N138="nulová",J138,0) -> 0 | BJ138: 2 | BK138: =ROUND(I138*H138,3) -> 0 | BL138: 4 | BM138: -520086377
C139: 47 | D139: K | E139: 942941022 | F139: Montáž lešenia ťažkého radového s podlahami, šírky od 2,00 do 2,50 m, pri zaťažení do 3 kPa, výšky nad 10 do 20 m | G139: m2 | H139: 538.98 | J139: =ROUND(I139*H139,3) -> 0 | K139: CS CENEKON 2018 01 | N139: znížená | P139: =O139*H139 -> 0 | Q139: 0.03792 | R139: =Q139*H139 -> 20.438122 | S139: 0 | T139: =S139*H139 -> 0 | AR139: 4 | AT139: K | AU139: 2 | AY139: ROZPOCET | BE139: =IF(N139="základná",J139,0) -> 0 | BF139: =IF(N139="znížená",J139,0) -> 0 | BG139: =IF(N139="zákl. prenesená",J139,0) -> 0 | BH139: =IF(N139="zníž. prenesená",J139,0) -> 0 | BI139: =IF(N139="nulová",J139,0) -> 0 | BJ139: 2 | BK139: =ROUND(I139*H139,3) -> 0 | BL139: 4 | BM139: 285129705
C140: 17 | D140: K | E140: 942941822 | F140: Demontáž lešenia ťažkého radového s podlahami, šírky od 2,00 do 2,50 m, pri zaťažení do 3 kPa, výšky nad 10 do 20 m | G140: m2 | H140: 538.98 | J140: =ROUND(I140*H140,3) -> 0 | N140: znížená | P140: =O140*H140 -> 0 | Q140: 0.0379042 | R140: =Q140*H140 -> 20.429606 | S140: 0 | T140: =S140*H140 -> 0 | AR140: 4 | AT140: K | AU140: 2 | AY140: ROZPOCET | BE140: =IF(N140="základná",J140,0) -> 0 | BF140: =IF(N140="znížená",J140,0) -> 0 | BG140: =IF(N140="zákl. prenesená",J140,0) -> 0 | BH140: =IF(N140="zníž. prenesená",J140,0) -> 0 | BI140: =IF(N140="nulová",J140,0) -> 0 | BJ140: 2 | BK140: =ROUND(I140*H140,3) -> 0 | BL140: 4 | BM140: 877484226
C141: 19 | D141: K | E141: 952902110 | F141: Čistenie budov zametaním v miestnostiach, chodbách, na schodišti a na povalách | G141: m2 | H141: 598.98 | J141: =ROUND(I141*H141,3) -> 0 | N141: znížená | P141: =O141*H141 -> 0 | Q141: 0 | R141: =Q141*H141 -> 0 | S141: 0 | T141: =S141*H141 -> 0 | AR141: 4 | AT141: K | AU141: 2 | AY141: ROZPOCET | BE141: =IF(N141="základná",J141,0) -> 0 | BF141: =IF(N141="znížená",J141,0) -> 0 | BG141: =IF(N141="zákl. prenesená",J141,0) -> 0 | BH141: =IF(N141="zníž. prenesená",J141,0) -> 0 | BI141: =IF(N141="nulová",J141,0) -> 0 | BJ141: 2 | BK141: =ROUND(I141*H141,3) -> 0 | BL141: 4 | BM141: -263409727
C142: 20 | D142: K | E142: 953945102 | F142: BAUMIT Soklový profil SL 18 (hliníkový) | G142: m | H142: 80 | J142: =ROUND(I142*H142,3) -> 0 | K142: CS CENEKON 2018 01 | N142: znížená | P142: =O142*H142 -> 0 | Q142: 0.00042 | R142: =Q142*H142 -> 0.0336 | S142: 0 | T142: =S142*H142 -> 0 | AR142: 4 | AT142: K | AU142: 2 | AY142: ROZPOCET | BE142: =IF(N142="základná",J142,0) -> 0 | BF142: =IF(N142="znížená",J142,0) -> 0 | BG142: =IF(N142="zákl. prenesená",J142,0) -> 0 | BH142: =IF(N142="zníž. prenesená",J142,0) -> 0 | BI142: =IF(N142="nulová",J142,0) -> 0 | BJ142: 2 | BK142: =ROUND(I142*H142,3) -> 0 | BL142: 4 | BM142: -1697608481
C143: 21 | D143: K | E143: 953995115 | F143: BAUMIT Nadokenná lišta s odkvapovým nosom (PVC) | G143: m | H143: 7.5 | J143: =ROUND(I143*H143,3) -> 0 | K143: CS CENEKON 2018 01 | N143: znížená | P143: =O143*H143 -> 0 | Q143: 0.0001 | R143: =Q143*H143 -> 0.00075 | S143: 0 | T143: =S143*H143 -> 0 | AR143: 4 | AT143: K | AU143: 2 | AY143: ROZPOCET | BE143: =IF(N143="základná",J143,0) -> 0 | BF143: =IF(N143="znížená",J143,0) -> 0 | BG143: =IF(N143="zákl. prenesená",J143,0) -> 0 | BH143: =IF(N143="zníž. prenesená",J143,0) -> 0 | BI143: =IF(N143="nulová",J143,0) -> 0 | BJ143: 2 | BK143: =ROUND(I143*H143,3) -> 0 | BL143: 4 | BM143: 1268629147
C144: 22 | D144: K | E144: 953995181 | F144: BAUMIT Okenný a dverový dilatačný profil Flex (plastový) | G144: m | H144: 52.5 | J144: =ROUND(I144*H144,3) -> 0 | K144: CS CENEKON 2018 01 | N144: znížená | P144: =O144*H144 -> 0 | Q144: 0.00027 | R144: =Q144*H144 -> 0.014175 | S144: 0 | T144: =S144*H144 -> 0 | AR144: 4 | AT144: K | AU144: 2 | AY144: ROZPOCET | BE144: =IF(N144="základná",J144,0) -> 0 | BF144: =IF(N144="znížená",J144,0) -> 0 | BG144: =IF(N144="zákl. prenesená",J144,0) -> 0 | BH144: =IF(N144="zníž. prenesená",J144,0) -> 0 | BI144: =IF(N144="nulová",J144,0) -> 0 | BJ144: 2 | BK144: =ROUND(I144*H144,3) -> 0 | BL144: 4 | BM144: 1046499534
C145: 23 | D145: K | E145: 953995201 | F145: BAUMIT Rohová lišta flexibilná (plastová) | G145: m | H145: 97.5 | J145: =ROUND(I145*H145,3) -> 0 | K145: CS CENEKON 2018 01 | N145: znížená | P145: =O145*H145 -> 0 | Q145: 3e-05 | R145: =Q145*H145 -> 0.002925 | S145: 0 | T145: =S145*H145 -> 0 | AR145: 4 | AT145: K | AU145: 2 | AY145: ROZPOCET | BE145: =IF(N145="základná",J145,0) -> 0 | BF145: =IF(N145="znížená",J145,0) -> 0 | BG145: =IF(N145="zákl. prenesená",J145,0) -> 0 | BH145: =IF(N145="zníž. prenesená",J145,0) -> 0 | BI145: =IF(N145="nulová",J145,0) -> 0 | BJ145: 2 | BK145: =ROUND(I145*H145,3) -> 0 | BL145: 4 | BM145: 1884415917
C146: 64 | D146: K | E146: 968061137 | F146: Vyvesenie dreveného krídla vrát do suti plochy nad 4 m2, -0,08000t | G146: ks | H146: 3 | J146: =ROUND(I146*H146,3) -> 0 | K146: CS CENEKON 2018 01 | N146: znížená | P146: =O146*H146 -> 0 | Q146: 0 | R146: =Q146*H146 -> 0 | S146: 0.08 | T146: =S146*H146 -> 0.24 | AR146: 4 | AT146: K | AU146: 2 | AY146: ROZPOCET | BE146: =IF(N146="základná",J146,0) -> 0 | BF146: =IF(N146="znížená",J146,0) -> 0 | BG146: =IF(N146="zákl. prenesená",J146,0) -> 0 | BH146: =IF(N146="zníž. prenesená",J146,0) -> 0 | BI146: =IF(N146="nulová",J146,0) -> 0 | BJ146: 2 | BK146: =ROUND(I146*H146,3) -> 0 | BL146: 4 | BM146: -1391351565
C147: 52 | D147: K | E147: 968071137 | F147: Vyvesenie kovového krídla vrát do suti plochy nad 4 m2 | G147: ks | H147: 3 | J147: =ROUND(I147*H147,3) -> 0 | K147: CS CENEKON 2018 01 | N147: znížená | P147: =O147*H147 -> 0 | Q147: 0 | R147: =Q147*H147 -> 0 | S147: 0.006 | T147: =S147*H147 -> 0.018 | AR147: 4 | AT147: K | AU147: 2 | AY147: ROZPOCET | BE147: =IF(N147="základná",J147,0) -> 0 | BF147: =IF(N147="znížená",J147,0) -> 0 | BG147: =IF(N147="zákl. prenesená",J147,0) -> 0 | BH147: =IF(N147="zníž. prenesená",J147,0) -> 0 | BI147: =IF(N147="nulová",J147,0) -> 0 | BJ147: 2 | BK147: =ROUND(I147*H147,3) -> 0 | BL147: 4 | BM147: -313971670
C148: 53 | D148: K | E148: 968072559 | F148: Vybúranie kovových vrát plochy nad 5 m2, -0,06600t | G148: m2 | H148: 24 | J148: =ROUND(I148*H148,3) -> 0 | K148: CS CENEKON 2018 01 | N148: znížená | P148: =O148*H148 -> 0 | Q148: 0 | R148: =Q148*H148 -> 0 | S148: 0.066 | T148: =S148*H148 -> 1.584 | AR148: 4 | AT148: K | AU148: 2 | AY148: ROZPOCET | BE148: =IF(N148="základná",J148,0) -> 0 | BF148: =IF(N148="znížená",J148,0) -> 0 | BG148: =IF(N148="zákl. prenesená",J148,0) -> 0 | BH148: =IF(N148="zníž. prenesená",J148,0) -> 0 | BI148: =IF(N148="nulová",J148,0) -> 0 | BJ148: 2 | BK148: =ROUND(I148*H148,3) -> 0 | BL148: 4 | BM148: -1641814806
C149: 54 | D149: K | E149: 979011111 | F149: Zvislá doprava sutiny a vybúraných hmôt za prvé podlažie nad alebo pod základným podlažím | G149: t | H149: 1.858 | J149: =ROUND(I149*H149,3) -> 0 | N149: znížená | P149: =O149*H149 -> 0 | Q149: 0 | R149: =Q149*H149 -> 0 | S149: 0 | T149: =S149*H149 -> 0 | AR149: 4 | AT149: K | AU149: 2 | AY149: ROZPOCET | BE149: =IF(N149="základná",J149,0) -> 0 | BF149: =IF(N149="znížená",J149,0) -> 0 | BG149: =IF(N149="zákl. prenesená",J149,0) -> 0 | BH149: =IF(N149="zníž. prenesená",J149,0) -> 0 | BI149: =IF(N149="nulová",J149,0) -> 0 | BJ149: 2 | BK149: =ROUND(I149*H149,3) -> 0 | BL149: 4 | BM149: -159411015
C150: 33 | D150: K | E150: 979081111 | F150: Odvoz sutiny a vybúraných hmôt na skládku do 1 km | G150: t | H150: 1.858 | J150: =ROUND(I150*H150,3) -> 0 | N150: znížená | P150: =O150*H150 -> 0 | Q150: 0 | R150: =Q150*H150 -> 0 | S150: 0 | T150: =S150*H150 -> 0 | AR150: 4 | AT150: K | AU150: 2 | AY150: ROZPOCET | BE150: =IF(N150="základná",J150,0) -> 0 | BF150: =IF(N150="znížená",J150,0) -> 0 | BG150: =IF(N150="zákl. prenesená",J150,0) -> 0 | BH150: =IF(N150="zníž. prenesená",J150,0) -> 0 | BI150: =IF(N150="nulová",J150,0) -> 0 | BJ150: 2 | BK150: =ROUND(I150*H150,3) -> 0 | BL150: 4 | BM150: 2132398911
C151: 34 | D151: K | E151: 979081121 | F151: Odvoz sutiny a vybúraných hmôt na skládku za každý ďalší 1 km | G151: t | H151: 1.858 | J151: =ROUND(I151*H151,3) -> 0 | N151: znížená | P151: =O151*H151 -> 0 | Q151: 0 | R151: =Q151*H151 -> 0 | S151: 0 | T151: =S151*H151 -> 0 | AR151: 4 | AT151: K | AU151: 2 | AY151: ROZPOCET | BE151: =IF(N151="základná",J151,0) -> 0 | BF151: =IF(N151="znížená",J151,0) -> 0 | BG151: =IF(N151="zákl. prenesená",J151,0) -> 0 | BH151: =IF(N151="zníž. prenesená",J151,0) -> 0 | BI151: =IF(N151="nulová",J151,0) -> 0 | BJ151: 2 | BK151: =ROUND(I151*H151,3) -> 0 | BL151: 4 | BM151: 1460577879
C152: 35 | D152: K | E152: 979082111 | F152: Vnútrostavenisková doprava sutiny a vybúraných hmôt do 10 m | G152: t | H152: 1.858 | J152: =ROUND(I152*H152,3) -> 0 | N152: znížená | P152: =O152*H152 -> 0 | Q152: 0 | R152: =Q152*H152 -> 0 | S152: 0 | T152: =S152*H152 -> 0 | AR152: 4 | AT152: K | AU152: 2 | AY152: ROZPOCET | BE152: =IF(N152="základná",J152,0) -> 0 | BF152: =IF(N152="znížená",J152,0) -> 0 | BG152: =IF(N152="zákl. prenesená",J152,0) -> 0 | BH152: =IF(N152="zníž. prenesená",J152,0) -> 0 | BI152: =IF(N152="nulová",J152,0) -> 0 | BJ152: 2 | BK152: =ROUND(I152*H152,3) -> 0 | BL152: 4 | BM152: 1489967615
D153: D | E153: 99 | F153: Presun hmôt HSV | J153: =BK153 -> 0 | P153: =SUM(P154:P155) -> 0 | R153: =SUM(R154:R155) -> 0 | T153: =SUM(T154:T155) -> 0 | AR153: 1 | AT153: D | AU153: 1 | AY153: ROZPOCET | BK153: =SUM(BK154:BK155) -> 0
C154: 55 | D154: K | E154: 998009101 | F154: Presun hmôt samostatne budovaného lešenia bez ohľadu na výšku | G154: t | H154: 86.011 | J154: =ROUND(I154*H154,3) -> 0 | K154: CS Cenekon 2014 02 | N154: znížená | P154: =O154*H154 -> 0 | Q154: 0 | R154: =Q154*H154 -> 0 | S154: 0 | T154: =S154*H154 -> 0 | AR154: 4 | AT154: K | AU154: 2 | AY154: ROZPOCET | BE154: =IF(N154="základná",J154,0) -> 0 | BF154: =IF(N154="znížená",J154,0) -> 0 | BG154: =IF(N154="zákl. prenesená",J154,0) -> 0 | BH154: =IF(N154="zníž. prenesená",J154,0) -> 0 | BI154: =IF(N154="nulová",J154,0) -> 0 | BJ154: 2 | BK154: =ROUND(I154*H154,3) -> 0 | BL154: 4 | BM154: 1340215944
C155: 56 | D155: K | E155: 998011001 | F155: Presun hmôt pre budovy (801, 803, 812), zvislá konštr. z tehál, tvárnic, z kovu výšky do 6 m | G155: t | H155: 86.011 | J155: =ROUND(I155*H155,3) -> 0 | K155: CS CENEKON 2018 01 | N155: znížená | P155: =O155*H155 -> 0 | Q155: 0 | R155: =Q155*H155 -> 0 | S155: 0 | T155: =S155*H155 -> 0 | AR155: 4 | AT155: K | AU155: 2 | AY155: ROZPOCET | BE155: =IF(N155="základná",J155,0) -> 0 | BF155: =IF(N155="znížená",J155,0) -> 0 | BG155: =IF(N155="zákl. prenesená",J155,0) -> 0 | BH155: =IF(N155="zníž. prenesená",J155,0) -> 0 | BI155: =IF(N155="nulová",J155,0) -> 0 | BJ155: 2 | BK155: =ROUND(I155*H155,3) -> 0 | BL155: 4 | BM155: 549843683
D156: D | E156: PSV | F156: Práce a dodávky PSV | J156: =BK156 -> 0 | P156: =P157+P160+P163+P166 -> 0 | R156: =R157+R160+R163+R166 -> 5.2920071 | T156: =T157+T160+T163+T166 -> 0.0163215 | AR156: 2 | AT156: D | AU156: 0 | AY156: ROZPOCET | BK156: =BK157+BK160+BK163+BK166 -> 0
D157: D | E157: 713 | F157: Izolácie tepelné | J157: =BK157 -> 0 | P157: =SUM(P158:P159) -> 0 | R157: =SUM(R158:R159) -> 4.7536 | T157: =SUM(T158:T159) -> 0 | AR157: 2 | AT157: D | AU157: 1 | AY157: ROZPOCET | BK157: =SUM(BK158:BK159) -> 0
C158: 49 | D158: K | E158: 713116020 X1 | F158: Montáž tepelnej izolácie stropov fúkanou izoláciou hrúbky do 17 - 22 cm | G158: m3 | H158: 60.633 | J158: =ROUND(I158*H158,3) -> 0 | N158: znížená | P158: =O158*H158 -> 0 | Q158: 0 | R158: =Q158*H158 -> 0 | S158: 0 | T158: =S158*H158 -> 0 | AR158: 16 | AT158: K | AU158: 2 | AY158: ROZPOCET | BE158: =IF(N158="základná",J158,0) -> 0 | BF158: =IF(N158="znížená",J158,0) -> 0 | BG158: =IF(N158="zákl. prenesená",J158,0) -> 0 | BH158: =IF(N158="zníž. prenesená",J158,0) -> 0 | BI158: =IF(N158="nulová",J158,0) -> 0 | BJ158: 2 | BK158: =ROUND(I158*H158,3) -> 0 | BL158: 16 | BM158: -102330744
C159: 50 | D159: M | E159: 629110000100X | F159: Vlákna SUPAFIL LOFT - fúkaná izolácia z čistého prírodného vlákna, vrece 16,6 kg | G159: kg | H159: 4753.6 | J159: =ROUND(I159*H159,3) -> 0 | K159: CS CENEKON 2018 01 | N159: znížená | P159: =O159*H159 -> 0 | Q159: 0.001 | R159: =Q159*H159 -> 4.7536 | S159: 0 | T159: =S159*H159 -> 0 | AR159: 32 | AT159: M | AU159: 2 | AY159: ROZPOCET | BE159: =IF(N159="základná",J159,0) -> 0 | BF159: =IF(N159="znížená",J159,0) -> 0 | BG159: =IF(N159="zákl. prenesená",J159,0) -> 0 | BH159: =IF(N159="zníž. prenesená",J159,0) -> 0 | BI159: =IF(N159="nulová",J159,0) -> 0 | BJ159: 2 | BK159: =ROUND(I159*H159,3) -> 0 | BL159: 16 | BM159: 913573353
D160: D | E160: 764 | F160: Konštrukcie klampiarske | J160: =BK160 -> 0 | P160: =SUM(P161:P162) -> 0 | R160: =SUM(R161:R162) -> 0.0044733 | T160: =SUM(T161:T162) -> 0.0163215 | AR160: 2 | AT160: D | AU160: 1 | AY160: ROZPOCET | BK160: =SUM(BK161:BK162) -> 0
C161: 48 | D161: K | E161: 764410540 | F161: Oplechovanie parapetov z poplastovaného plechu, vrátane rohov r.š. 330 mm | G161: m | H161: 12.09 | J161: =ROUND(I161*H161,3) -> 0 | K161: CS CENEKON 2018 01 | N161: znížená | P161: =O161*H161 -> 0 | Q161: 0.00037 | R161: =Q161*H161 -> 0.0044733 | S161: 0 | T161: =S161*H161 -> 0 | AR161: 16 | AT161: K | AU161: 2 | AY161: ROZPOCET | BE161: =IF(N161="základná",J161,0) -> 0 | BF161: =IF(N161="znížená",J161,0) -> 0 | BG161: =IF(N161="zákl. prenesená",J161,0) -> 0 | BH161: =IF(N161="zníž. prenesená",J161,0) -> 0 | BI161: =IF(N161="nulová",J161,0) -> 0 | BJ161: 2 | BK161: =ROUND(I161*H161,3) -> 0 | BL161: 16 | BM161: -566993027
C162: 37 | D162: K | E162: 764410850 | F162: Demontáž oplechovania parapetov rš od 100 do 330 mm, -0,00135t | G162: m | H162: 12.09 | J162: =ROUND(I162*H162,3) -> 0 | K162: CS CENEKON 2018 01 | N162: znížená | P162: =O162*H162 -> 0 | Q162: 0 | R162: =Q162*H162 -> 0 | S162: 0.00135 | T162: =S162*H162 -> 0.0163215 | AR162: 16 | AT162: K | AU162: 2 | AY162: ROZPOCET | BE162: =IF(N162="základná",J162,0) -> 0 | BF162: =IF(N162="znížená",J162,0) -> 0 | BG162: =IF(N162="zákl. prenesená",J162,0) -> 0 | BH162: =IF(N162="zníž. prenesená",J162,0) -> 0 | BI162: =IF(N162="nulová",J162,0) -> 0 | BJ162: 2 | BK162: =ROUND(I162*H162,3) -> 0 | BL162: 16 | BM162: 93774333
D163: D | E163: 766 | F163: Konštrukcie stolárske | J163: =BK163 -> 0 | P163: =SUM(P164:P165) -> 0 | R163: =SUM(R164:R165) -> 0.3336125 | T163: =SUM(T164:T165) -> 0 | AR163: 2 | AT163: D | AU163: 1 | AY163: ROZPOCET | BK163: =SUM(BK164:BK165) -> 0
C164: 57 | D164: K | E164: 766641161 | F164: Montáž dverí plastových, vchodových, 1 m obvodu dverí | G164: m | H164: 8.5 | J164: =ROUND(I164*H164,3) -> 0 | K164: CS CENEKON 2018 01 | N164: znížená | P164: =O164*H164 -> 0 | Q164: 0.000425 | R164: =Q164*H164 -> 0.0036125 | S164: 0 | T164: =S164*H164 -> 0 | AR164: 16 | AT164: K | AU164: 2 | AY164: ROZPOCET | BE164: =IF(N164="základná",J164,0) -> 0 | BF164: =IF(N164="znížená",J164,0) -> 0 | BG164: =IF(N164="zákl. prenesená",J164,0) -> 0 | BH164: =IF(N164="zníž. prenesená",J164,0) -> 0 | BI164: =IF(N164="nulová",J164,0) -> 0 | BJ164: 2 | BK164: =ROUND(I164*H164,3) -> 0 | BL164: 16 | BM164: -428038393
C165: 59 | D165: M | E165: 611730000100 Y2 | F165: Dvojkrýdlové otváravé dvere plastové šxv 2450x3000 mm, 5 komorový systém , izolačná výplň | G165: ks | H165: 1 | J165: =ROUND(I165*H165,3) -> 0 | N165: znížená | P165: =O165*H165 -> 0 | Q165: 0.33 | R165: =Q165*H165 -> 0.33 | S165: 0 | T165: =S165*H165 -> 0 | AR165: 32 | AT165: M | AU165: 2 | AY165: ROZPOCET | BE165: =IF(N165="základná",J165,0) -> 0 | BF165: =IF(N165="znížená",J165,0) -> 0 | BG165: =IF(N165="zákl. prenesená",J165,0) -> 0 | BH165: =IF(N165="zníž. prenesená",J165,0) -> 0 | BI165: =IF(N165="nulová",J165,0) -> 0 | BJ165: 2 | BK165: =ROUND(I165*H165,3) -> 0 | BL165: 16 | BM165: -1223244337
D166: D | E166: 767 | F166: Konštrukcie doplnkové kovové | J166: =BK166 -> 0 | P166: =SUM(P167:P171) -> 0 | R166: =SUM(R167:R171) -> 0.2003213 | T166: =SUM(T167:T171) -> 0 | AR166: 2 | AT166: D | AU166: 1 | AY166: ROZPOCET | BK166: =SUM(BK167:BK171) -> 0
...

Sheet BL - Bleskozvod
AT2: {341d73d8-ae37-451a-838f-b2622fd0b48d}
AT3: 0
D4: KRYCÍ LIST ROZPOČTU | M4: v --- nižšie sa nachádzajú doplnkové a pomocné údaje k zostavám --- v | AT4: False
D6: Stavba:
E7: ='Rekapitulácia stavby'!K6 -> Zateplenie skladovaco expedičnej haly v areáli Šambron
D8: Objekt:
E9: BL - Bleskozvod
D11: JKSO: | F11: 811 79 | I11: KS: | J11: 1251
D12: Miesto: | F12: Śambron | I12: Dátum: | J12: ='Rekapitulácia stavby'!AN8 -> 0
D14: Objednávateľ: | I14: IČO: | J14: 31679935
E15: AGROKARPATY, spol. s r. o. Plavnica | I15: IČ DPH: | J15: SK 2020525584
D17: Zhotoviteľ: | I17: IČO: | J17: ='Rekapitulácia stavby'!AN13 -> Vyplň údaj
E18: ='Rekapitulácia stavby'!E14 -> Vyplň údaj | I18: IČ DPH: | J18: ='Rekapitulácia stavby'!AN14 -> Vyplň údaj
D20: Projektant: | I20: IČO: | J20: =IF('Rekapitulácia stavby'!AN16="","",'Rekapitulácia stavby'!AN16) -> 37682075
E21: =IF('Rekapitulácia stavby'!E17="","",'Rekapitulácia stavby'!E17) -> Inf. Pavel Fedorko | I21: IČ DPH: | J21: =IF('Rekapitulácia stavby'!AN17="","",'Rekapitulácia stavby'!AN17) -> SK 1045067012
D23: Spracovateľ: | I23: IČO: | J23: 37682075
E24: Ing. Pavel Fedorko | I24: IČ DPH: | J24: SK 1045067012
D26: Poznámka:
D30: Cena bez DPH | J30: =ROUND(J122, 2) -> 0
F32: Základ dane | I32: Sadzba dane | J32: Výška dane
D33: DPH | E33: základná | F33: =ROUND((ROUND((SUM(BE122:BE151)), 2) + SUM(BE153:BE157)), 2) -> 0 | I33: 0.2 | J33: =ROUND((ROUND(((SUM(BE122:BE151))*I33), 2) + (SUM(BE153:BE157)*I33)), 2) -> 0
E34: znížená | F34: =ROUND((ROUND((SUM(BF122:BF151)), 2) + SUM(BF153:BF157)), 2) -> 0 | I34: 0.2 | J34: =ROUND((ROUND(((SUM(BF122:BF151))*I34), 2) + (SUM(BF153:BF157)*I34)), 2) -> 0
E35: zákl. prenesená | F35: =ROUND((ROUND((SUM(BG122:BG151)), 2) + SUM(BG153:BG157)), 2) -> 0 | I35: 0.2 | J35: =0 -> 0
E36: zníž. prenesená | F36: =ROUND((ROUND((SUM(BH122:BH151)), 2) + SUM(BH153:BH157)), 2) -> 0 | I36: 0.2 | J36: =0 -> 0
E37: nulová | F37: =ROUND((ROUND((SUM(BI122:BI151)), 2) + SUM(BI153:BI157)), 2) -> 0 | I37: 0 | J37: =0 -> 0
D39: Cena s DPH | G39: v | H39: EUR | J39: =SUM(J30:J37) -> 0
D50: Projektant | G50: Spracovateľ
D61: Dátum a podpis: | F61: Pečiatka | G61: Dátum a podpis: | J61: Pečiatka
D65: Objednávateľ | G65: Zhotoviteľ
D76: Dátum a podpis: | F76: Pečiatka | G76: Dátum a podpis: | J76: Pečiatka
C82: REKAPITULÁCIA ROZPOČTU
C84: Stavba:
E85: =E7 -> Zateplenie skladovaco expedičnej haly v areáli Šambron
C86: Objekt:
E87: =E9 -> BL - Bleskozvod
C89: Miesto: | F89: =F12 -> Śambron | I89: Dátum: | J89: =IF(J12="","",J12) -> 0
C91: Objednávateľ: | F91: =E15 -> AGROKARPATY, spol. s r. o. Plavnica | I91: Projektant: | J91: =E21 -> Inf. Pavel Fedorko
C92: Zhotoviteľ: | F92: =IF(E18="","",E18) -> Vyplň údaj | I92: Spracovateľ: | J92: =E24 -> Ing. Pavel Fedorko
C94: Kód dielu - Popis | J94: Cena celkom [EUR]
C96: Náklady z rozpočtu | J96: =J122 -> 0 | AU96: -1
D97: HSV - Práce a dodávky HSV | J97: =J123 -> 0
D98: 9 - Ostatné konštrukcie a práce-búranie | J98: =J124 -> 0
D99: M - M | J99: =J127 -> 0
D100: 21-M - Elektromontáže | J100: =J128 -> 0
D101: HZS - Hodinové zúčtovacie sadzby | J101: =J150 -> 0
D102: VP - Práce naviac | J102: =J152 -> 0
C109: ROZPOČET
C111: Stavba:
E112: =E7 -> Zateplenie skladovaco expedičnej haly v areáli Šambron
C113: Objekt:
E114: =E9 -> BL - Bleskozvod
C116: Miesto: | F116: =F12 -> Śambron | I116: Dátum: | J116: =IF(J12="","",J12) -> 0
C118: Objednávateľ: | F118: =E15 -> AGROKARPATY, spol. s r. o. Plavnica | I118: Projektant: | J118: =E21 -> Inf. Pavel Fedorko
C119: Zhotoviteľ: | F119: =IF(E18="","",E18) -> Vyplň údaj | I119: Spracovateľ: | J119: =E24 -> Ing. Pavel Fedorko
C121: PČ | D121: Typ | E121: Kód | F121: Popis | G121: MJ | H121: Množstvo | I121: J.cena [EUR] | J121: Cena celkom [EUR] | K121: Cenová sústava | N121: DPH | O121: J. Nh [h] | P121: Nh celkom [h] | Q121: J. hmotnosť [t] | R121: Hmotnosť celkom [t] | S121: J. suť [t] | T121: Suť Celkom [t] | U121: Dodávateľ
C122: Náklady z rozpočtu | J122: =BK122 -> 0 | P122: =P123+P127+P150+P152 -> 0 | R122: =R123+R127+R150+R152 -> 0 | T122: =T123+T127+T150+T152 -> 0 | AT122: D | AU122: -1 | BK122: =BK123+BK127+BK150+BK152 -> 0
D123: D | E123: HSV | F123: Práce a dodávky HSV | J123: =BK123 -> 0 | P123: =P124 -> 0 | R123: =R124 -> 0 | T123: =T124 -> 0 | AR123: 1 | AT123: D | AU123: 0 | AY123: ROZPOCET | BK123: =BK124 -> 0
D124: D | E124: 9 | F124: Ostatné konštrukcie a práce-búranie | J124: =BK124 -> 0 | P124: =SUM(P125:P126) -> 0 | R124: =SUM(R125:R126) -> 0 | T124: =SUM(T125:T126) -> 0 | AR124: 1 | AT124: D | AU124: 1 | AY124: ROZPOCET | BK124: =SUM(BK125:BK126) -> 0
C125: 1 | D125: K | E125: 973011191 | F125: Vysekanie kapsy v stenách a stropoch z ľahkých betónov do 150x150x100mm, -0,00200t | G125: ks | H125: 4 | J125: =ROUND(I125*H125,3) -> 0 | N125: znížená | P125: =O125*H125 -> 0 | Q125: 0 | R125: =Q125*H125 -> 0 | S125: 0 | T125: =S125*H125 -> 0 | AR125: 4 | AT125: K | AU125: 2 | AY125: ROZPOCET | BE125: =IF(N125="základná",J125,0) -> 0 | BF125: =IF(N125="znížená",J125,0) -> 0 | BG125: =IF(N125="zákl. prenesená",J125,0) -> 0 | BH125: =IF(N125="zníž. prenesená",J125,0) -> 0 | BI125: =IF(N125="nulová",J125,0) -> 0 | BJ125: 2 | BK125: =ROUND(I125*H125,3) -> 0 | BL125: 4 | BM125: 2
C126: 2 | D126: K | E126: 974031232 | F126: Vysekanie rýh v murive tehlovom naakúkoľvek maltu v priestore priľahlom k stropnej konštrukcii do hĺbky 50 mm a š. do 70 mm, -0,00600 t | G126: m | H126: 21 | J126: =ROUND(I126*H126,3) -> 0 | N126: znížená | P126: =O126*H126 -> 0 | Q126: 0 | R126: =Q126*H126 -> 0 | S126: 0 | T126: =S126*H126 -> 0 | AR126: 4 | AT126: K | AU126: 2 | AY126: ROZPOCET | BE126: =IF(N126="základná",J126,0) -> 0 | BF126: =IF(N126="znížená",J126,0) -> 0 | BG126: =IF(N126="zákl. prenesená",J126,0) -> 0 | BH126: =IF(N126="zníž. prenesená",J126,0) -> 0 | BI126: =IF(N126="nulová",J126,0) -> 0 | BJ126: 2 | BK126: =ROUND(I126*H126,3) -> 0 | BL126: 4 | BM126: 4
D127: D | E127: M | F127: M | J127: =BK127 -> 0 | P127: =P128 -> 0 | R127: =R128 -> 0 | T127: =T128 -> 0 | AR127: 3 | AT127: D | AU127: 0 | AY127: ROZPOCET | BK127: =BK128 -> 0
D128: D | E128: 21-M | F128: Elektromontáže | J128: =BK128 -> 0 | P128: =SUM(P129:P149) -> 0 | R128: =SUM(R129:R149) -> 0 | T128: =SUM(T129:T149) -> 0 | AR128: 3 | AT128: D | AU128: 1 | AY128: ROZPOCET | BK128: =SUM(BK129:BK149) -> 0
C129: 3 | D129: K | E129: 210010005 | F129: Rúrka ohybná elektroinštalačná typ 23-36, uložená pod omietkou | G129: m | H129: 20 | J129: =ROUND(I129*H129,3) -> 0 | N129: znížená | P129: =O129*H129 -> 0 | Q129: 0 | R129: =Q129*H129 -> 0 | S129: 0 | T129: =S129*H129 -> 0 | AR129: 64 | AT129: K | AU129: 2 | AY129: ROZPOCET | BE129: =IF(N129="základná",J129,0) -> 0 | BF129: =IF(N129="znížená",J129,0) -> 0 | BG129: =IF(N129="zákl. prenesená",J129,0) -> 0 | BH129: =IF(N129="zníž. prenesená",J129,0) -> 0 | BI129: =IF(N129="nulová",J129,0) -> 0 | BJ129: 2 | BK129: =ROUND(I129*H129,3) -> 0 | BL129: 64 | BM129: 6
C130: 4 | D130: M | E130: 3450704400 | F130: I-Rúrka FX 40 | G130: m | H130: 21 | J130: =ROUND(I130*H130,3) -> 0 | N130: znížená | P130: =O130*H130 -> 0 | Q130: 0 | R130: =Q130*H130 -> 0 | S130: 0 | T130: =S130*H130 -> 0 | AR130: 256 | AT130: M | AU130: 2 | AY130: ROZPOCET | BE130: =IF(N130="základná",J130,0) -> 0 | BF130: =IF(N130="znížená",J130,0) -> 0 | BG130: =IF(N130="zákl. prenesená",J130,0) -> 0 | BH130: =IF(N130="zníž. prenesená",J130,0) -> 0 | BI130: =IF(N130="nulová",J130,0) -> 0 | BJ130: 2 | BK130: =ROUND(I130*H130,3) -> 0 | BL130: 64 | BM130: 8
C131: 5 | D131: K | E131: 210220103 | F131: Zvodový vodič včítane podpery FeZn do D 10 mm, A1 D 10 mm AlMgSi D 8 mm | G131: m | H131: 90 | J131: =ROUND(I131*H131,3) -> 0 | N131: znížená | P131: =O131*H131 -> 0 | Q131: 0 | R131: =Q131*H131 -> 0 | S131: 0 | T131: =S131*H131 -> 0 | AR131: 64 | AT131: K | AU131: 2 | AY131: ROZPOCET | BE131: =IF(N131="základná",J131,0) -> 0 | BF131: =IF(N131="znížená",J131,0) -> 0 | BG131: =IF(N131="zákl. prenesená",J131,0) -> 0 | BH131: =IF(N131="zníž. prenesená",J131,0) -> 0 | BI131: =IF(N131="nulová",J131,0) -> 0 | BJ131: 2 | BK131: =ROUND(I131*H131,3) -> 0 | BL131: 64 | BM131: 10
C132: 6 | D132: M | E132: 3544245350 | F132: Drôt FeZn 8, ZIN Hronský Beňadik | G132: kg | H132: 39.977 | J132: =ROUND(I132*H132,3) -> 0 | N132: znížená | P132: =O132*H132 -> 0 | Q132: 0 | R132: =Q132*H132 -> 0 | S132: 0 | T132: =S132*H132 -> 0 | AR132: 256 | AT132: M | AU132: 2 | AY132: ROZPOCET | BE132: =IF(N132="základná",J132,0) -> 0 | BF132: =IF(N132="znížená",J132,0) -> 0 | BG132: =IF(N132="zákl. prenesená",J132,0) -> 0 | BH132: =IF(N132="zníž. prenesená",J132,0) -> 0 | BI132: =IF(N132="nulová",J132,0) -> 0 | BJ132: 2 | BK132: =ROUND(I132*H132,3) -> 0 | BL132: 64 | BM132: 12
C133: 7 | D133: M | E133: 3544216950 | F133: Podpera vedenia na vrchol krovu ocelová žiarovo zinkovaná označenie PV 15 ZIN HRONSKY BENADIKT | G133: ks | H133: 30 | J133: =ROUND(I133*H133,3) -> 0 | N133: znížená | P133: =O133*H133 -> 0 | Q133: 0 | R133: =Q133*H133 -> 0 | S133: 0 | T133: =S133*H133 -> 0 | AR133: 256 | AT133: M | AU133: 2 | AY133: ROZPOCET | BE133: =IF(N133="základná",J133,0) -> 0 | BF133: =IF(N133="znížená",J133,0) -> 0 | BG133: =IF(N133="zákl. prenesená",J133,0) -> 0 | BH133: =IF(N133="zníž. prenesená",J133,0) -> 0 | BI133: =IF(N133="nulová",J133,0) -> 0 | BJ133: 2 | BK133: =ROUND(I133*H133,3) -> 0 | BL133: 64 | BM133: 14
C134: 8 | D134: M | E134: 3544218350 | F134: Podpera vedenia na plechové strechy ocelová žiarovo zinkovaná označenie PV 23 ZIN HRONSKY BENADIKT | G134: ks | H134: 26 | J134: =ROUND(I134*H134,3) -> 0 | N134: znížená | P134: =O134*H134 -> 0 | Q134: 0 | R134: =Q134*H134 -> 0 | S134: 0 | T134: =S134*H134 -> 0 | AR134: 256 | AT134: M | AU134: 2 | AY134: ROZPOCET | BE134: =IF(N134="základná",J134,0) -> 0 | BF134: =IF(N134="znížená",J134,0) -> 0 | BG134: =IF(N134="zákl. prenesená",J134,0) -> 0 | BH134: =IF(N134="zníž. prenesená",J134,0) -> 0 | BI134: =IF(N134="nulová",J134,0) -> 0 | BJ134: 2 | BK134: =ROUND(I134*H134,3) -> 0 | BL134: 64 | BM134: 16
C135: 9 | D135: K | E135: 210220301 | F135: Bleskozvodová svorka do 2 skrutiek (SS, SR 03) | G135: ks | H135: 35 | J135: =ROUND(I135*H135,3) -> 0 | N135: znížená | P135: =O135*H135 -> 0 | Q135: 0 | R135: =Q135*H135 -> 0 | S135: 0 | T135: =S135*H135 -> 0 | AR135: 64 | AT135: K | AU135: 2 | AY135: ROZPOCET | BE135: =IF(N135="základná",J135,0) -> 0 | BF135: =IF(N135="znížená",J135,0) -> 0 | BG135: =IF(N135="zákl. prenesená",J135,0) -> 0 | BH135: =IF(N135="zníž. prenesená",J135,0) -> 0 | BI135: =IF(N135="nulová",J135,0) -> 0 | BJ135: 2 | BK135: =ROUND(I135*H135,3) -> 0 | BL135: 64 | BM135: 18
C136: 10 | D136: M | E136: 3540406800 | F136: HR-Svorka SS | G136: ks | H136: 35 | J136: =ROUND(I136*H136,3) -> 0 | N136: znížená | P136: =O136*H136 -> 0 | Q136: 0 | R136: =Q136*H136 -> 0 | S136: 0 | T136: =S136*H136 -> 0 | AR136: 256 | AT136: M | AU136: 2 | AY136: ROZPOCET | BE136: =IF(N136="základná",J136,0) -> 0 | BF136: =IF(N136="znížená",J136,0) -> 0 | BG136: =IF(N136="zákl. prenesená",J136,0) -> 0 | BH136: =IF(N136="zníž. prenesená",J136,0) -> 0 | BI136: =IF(N136="nulová",J136,0) -> 0 | BJ136: 2 | BK136: =ROUND(I136*H136,3) -> 0 | BL136: 64 | BM136: 20
C137: 11 | D137: K | E137: 210220302 | F137: Bleskozvodová svorka nad 2 skrutky (ST, SJ, SK, SZ, SR 01, 02) | G137: ks | H137: 8 | J137: =ROUND(I137*H137,3) -> 0 | N137: znížená | P137: =O137*H137 -> 0 | Q137: 0 | R137: =Q137*H137 -> 0 | S137: 0 | T137: =S137*H137 -> 0 | AR137: 64 | AT137: K | AU137: 2 | AY137: ROZPOCET | BE137: =IF(N137="základná",J137,0) -> 0 | BF137: =IF(N137="znížená",J137,0) -> 0 | BG137: =IF(N137="zákl. prenesená",J137,0) -> 0 | BH137: =IF(N137="zníž. prenesená",J137,0) -> 0 | BI137: =IF(N137="nulová",J137,0) -> 0 | BJ137: 2 | BK137: =ROUND(I137*H137,3) -> 0 | BL137: 64 | BM137: 22
C138: 12 | D138: M | E138: 3544199600 | F138: Svorka vodovodná SR 03 vod d 6-12 mm | G138: ks | H138: 8 | J138: =ROUND(I138*H138,3) -> 0 | N138: znížená | P138: =O138*H138 -> 0 | Q138: 0 | R138: =Q138*H138 -> 0 | S138: 0 | T138: =S138*H138 -> 0 | AR138: 256 | AT138: M | AU138: 2 | AY138: ROZPOCET | BE138: =IF(N138="základná",J138,0) -> 0 | BF138: =IF(N138="znížená",J138,0) -> 0 | BG138: =IF(N138="zákl. prenesená",J138,0) -> 0 | BH138: =IF(N138="zníž. prenesená",J138,0) -> 0 | BI138: =IF(N138="nulová",J138,0) -> 0 | BJ138: 2 | BK138: =ROUND(I138*H138,3) -> 0 | BL138: 64 | BM138: 24
C139: 13 | D139: K | E139: 210220302 | F139: Bleskozvodová svorka nad 2 skrutky (ST, SJ, SK, SZ, SR 01, 02) | G139: ks | H139: 8 | J139: =ROUND(I139*H139,3) -> 0 | N139: znížená | P139: =O139*H139 -> 0 | Q139: 0 | R139: =Q139*H139 -> 0 | S139: 0 | T139: =S139*H139 -> 0 | AR139: 64 | AT139: K | AU139: 2 | AY139: ROZPOCET | BE139: =IF(N139="základná",J139,0) -> 0 | BF139: =IF(N139="znížená",J139,0) -> 0 | BG139: =IF(N139="zákl. prenesená",J139,0) -> 0 | BH139: =IF(N139="zníž. prenesená",J139,0) -> 0 | BI139: =IF(N139="nulová",J139,0) -> 0 | BJ139: 2 | BK139: =ROUND(I139*H139,3) -> 0 | BL139: 64 | BM139: 26
C140: 14 | D140: M | E140: 3540408300 | F140: HR-Svorka SZ | G140: ks | H140: 4 | J140: =ROUND(I140*H140,3) -> 0 | N140: znížená | P140: =O140*H140 -> 0 | Q140: 0 | R140: =Q140*H140 -> 0 | S140: 0 | T140: =S140*H140 -> 0 | AR140: 256 | AT140: M | AU140: 2 | AY140: ROZPOCET | BE140: =IF(N140="základná",J140,0) -> 0 | BF140: =IF(N140="znížená",J140,0) -> 0 | BG140: =IF(N140="zákl. prenesená",J140,0) -> 0 | BH140: =IF(N140="zníž. prenesená",J140,0) -> 0 | BI140: =IF(N140="nulová",J140,0) -> 0 | BJ140: 2 | BK140: =ROUND(I140*H140,3) -> 0 | BL140: 64 | BM140: 28
... C146: 20 | D146: K | E146: 210220431.1 | F146: Tvarovanie montáž. dielu- zberača, pomocný zachyt. pre oddialený bleskozvod, vr. 2xFR OB, 2xRS OB | G146: ks | H146: 2 | J146: =ROUND(I146*H146,3) -> 0 | N146: znížená | P146: =O146*H146 -> 0 | Q146: 0 | R146: =Q146*H146 -> 0 | S146: 0 | T146: =S146*H146 -> 0 | AR146: 64 | AT146: K | AU146: 2 | AY146: ROZPOCET | BE146: =IF(N146="základná",J146,0) -> 0 | BF146: =IF(N146="znížená",J146,0) -> 0 | BG146: =IF(N146="zákl. prenesená",J146,0) -> 0 | BH146: =IF(N146="zníž. prenesená",J146,0) -> 0 | BI146: =IF(N146="nulová",J146,0) -> 0 | BJ146: 2 | BK146: =ROUND(I146*H146,3) -> 0 | BL146: 64 | BM146: 40
C147: 21 | D147: K | E147: PM1 | F147: Podružmý materiál | G147: % | J147: =ROUND(I147*H147,3) -> 0 | N147: znížená | P147: =O147*H147 -> 0 | Q147: 0 | R147: =Q147*H147 -> 0 | S147: 0 | T147: =S147*H147 -> 0 | AR147: 64 | AT147: K | AU147: 2 | AY147: ROZPOCET | BE147: =IF(N147="základná",J147,0) -> 0 | BF147: =IF(N147="znížená",J147,0) -> 0 | BG147: =IF(N147="zákl. prenesená",J147,0) -> 0 | BH147: =IF(N147="zníž. prenesená",J147,0) -> 0 | BI147: =IF(N147="nulová",J147,0) -> 0 | BJ147: 2 | BK147: =ROUND(I147*H147,3) -> 0 | BL147: 64 | BM147: 42
C148: 22 | D148: K | E148: PPV | F148: Podiel pridružených výkonov | G148: % | J148: =ROUND(I148*H148,3) -> 0 | N148: znížená | P148: =O148*H148 -> 0 | Q148: 0 | R148: =Q148*H148 -> 0 | S148: 0 | T148: =S148*H148 -> 0 | AR148: 64 | AT148: K | AU148: 2 | AY148: ROZPOCET | BE148: =IF(N148="základná",J148,0) -> 0 | BF148: =IF(N148="znížená",J148,0) -> 0 | BG148: =IF(N148="zákl. prenesená",J148,0) -> 0 | BH148: =IF(N148="zníž. prenesená",J148,0) -> 0 | BI148: =IF(N148="nulová",J148,0) -> 0 | BJ148: 2 | BK148: =ROUND(I148*H148,3) -> 0 | BL148: 64 | BM148: 44
C149: 23 | D149: K | E149: R1 | F149: Revízia | G149: ks | H149: 1 | J149: =ROUND(I149*H149,3) -> 0 | N149: znížená | P149: =O149*H149 -> 0 | Q149: 0 | R149: =Q149*H149 -> 0 | S149: 0 | T149: =S149*H149 -> 0 | AR149: 64 | AT149: K | AU149: 2 | AY149: ROZPOCET | BE149: =IF(N149="základná",J149,0) -> 0 | BF149: =IF(N149="znížená",J149,0) -> 0 | BG149: =IF(N149="zákl. prenesená",J149,0) -> 0 | BH149: =IF(N149="zníž. prenesená",J149,0) -> 0 | BI149: =IF(N149="nulová",J149,0) -> 0 | BJ149: 2 | BK149: =ROUND(I149*H149,3) -> 0 | BL149: 64 | BM149: 46
D150: D | E150: HZS | F150: Hodinové zúčtovacie sadzby | J150: =BK150 -> 0 | P150: =P151 -> 0 | R150: =R151 -> 0 | T150: =T151 -> 0 | AR150: 4 | AT150: D | AU150: 0 | AY150: ROZPOCET | BK150: =BK151 -> 0
C151: 24 | D151: K | E151: HZS000111 | F151: Stavebno montážne práce menej náročne, pomocné alebo manupulačné (Tr 1) v rozsahu viac ako 8 hodín - DMT práce | G151: hod | H151: 12 | J151: =ROUND(I151*H151,3) -> 0 | N151: znížená | P151: =O151*H151 -> 0 | Q151: 0 | R151: =Q151*H151 -> 0 | S151: 0 | T151: =S151*H151 -> 0 | AR151: 262144 | AT151: K | AU151: 1 | AY151: ROZPOCET | BE151: =IF(N151="základná",J151,0) -> 0 | BF151: =IF(N151="znížená",J151,0) -> 0 | BG151: =IF(N151="zákl. prenesená",J151,0) -> 0 | BH151: =IF(N151="zníž. prenesená",J151,0) -> 0 | BI151: =IF(N151="nulová",J151,0) -> 0 | BJ151: 2 | BK151: =ROUND(I151*H151,3) -> 0 | BL151: 262144 | BM151: 48
E152: VP | F152: Práce naviac | J152: =BK152 -> 0 | AT152: D | AU152: 0 | AY152: PN | BK152: =SUM(BK153:BK157) -> 0
D153: K | J153: =BK153 -> 0 | N153: znížená | AT153: PN | AU153: 1 | AY153: PN | BE153: =IF(N153="základná",J153,0) -> 0 | BF153: =IF(N153="znížená",J153,0) -> 0 | BG153: =IF(N153="zákl. prenesená",J153,0) -> 0 | BH153: =IF(N153="zníž. prenesená",J153,0) -> 0 | BI153: =IF(N153="nulová",J153,0) -> 0 | BJ153: 2 | BK153: =I153*H153 -> 0
D154: K | J154: =BK154 -> 0 | N154: znížená | AT154: PN | AU154: 1 | AY154: PN | BE154: =IF(N154="základná",J154,0) -> 0 | BF154: =IF(N154="znížená",J154,0) -> 0 | BG154: =IF(N154="zákl. prenesená",J154,0) -> 0 | BH154: =IF(N154="zníž. prenesená",J154,0) -> 0 | BI154: =IF(N154="nulová",J154,0) -> 0 | BJ154: 2 | BK154: =I154*H154 -> 0
D155: K | J155: =BK155 -> 0 | N155: znížená | AT155: PN | AU155: 1 | AY155: PN | BE155: =IF(N155="základná",J155,0) -> 0 | BF155: =IF(N155="znížená",J155,0) -> 0 | BG155: =IF(N155="zákl. prenesená",J155,0) -> 0 | BH155: =IF(N155="zníž. prenesená",J155,0) -> 0 | BI155: =IF(N155="nulová",J155,0) -> 0 | BJ155: 2 | BK155: =I155*H155 -> 0
D156: K | J156: =BK156 -> 0 | N156: znížená | AT156: PN | AU156: 1 | AY156: PN | BE156: =IF(N156="základná",J156,0) -> 0 | BF156: =IF(N156="znížená",J156,0) -> 0 | BG156: =IF(N156="zákl. prenesená",J156,0) -> 0 | BH156: =IF(N156="zníž. prenesená",J156,0) -> 0 | BI156: =IF(N156="nulová",J156,0) -> 0 | BJ156: 2 | BK156: =I156*H156 -> 0
D157: K | J157: =BK157 -> 0 | N157: znížená | AT157: PN | AU157: 1 | AY157: PN | BE157: =IF(N157="základná",J157,0) -> 0 | BF157: =IF(N157="znížená",J157,0) -> 0 | BG157: =IF(N157="zákl. prenesená",J157,0) -> 0 | BH157: =IF(N157="zníž. prenesená",J157,0) -> 0 | BI157: =IF(N157="nulová",J157,0) -> 0 | BJ157: 2 | BK157: =I157*H157 -> 0

Sheet Eli - Elektroinštalácia, ...
AT2: {6141783e-e7c6-4ba9-b526-d8d35b003a6f}
AT3: 0
D4: KRYCÍ LIST ROZPOČTU | M4: v --- nižšie sa nachádzajú doplnkové a pomocné údaje k zostavám --- v | AT4: False
D6: Stavba:
E7: ='Rekapitulácia stavby'!K6 -> Zateplenie skladovaco expedičnej haly v areáli Šambron
D8: Objekt:
E9: Eli - Elektroinštalácia, osvetlenie
D11: JKSO: | F11: 811 79 | I11: KS: | J11: 1251
D12: Miesto: | F12: Šambron | I12: Dátum: | J12: ='Rekapitulácia stavby'!AN8 -> 0
D14: Objednávateľ: | I14: IČO: | J14: 31679935
E15: AGROKARPATY, spol. s r. o. Plavnica | I15: IČ DPH: | J15: SK 2020525584
D17: Zhotoviteľ: | I17: IČO: | J17: ='Rekapitulácia stavby'!AN13 -> Vyplň údaj
E18: ='Rekapitulácia stavby'!E14 -> Vyplň údaj | I18: IČ DPH: | J18: ='Rekapitulácia stavby'!AN14 -> Vyplň údaj
D20: Projektant: | I20: IČO: | J20: =IF('Rekapitulácia stavby'!AN16="","",'Rekapitulácia stavby'!AN16) -> 37682075
E21: =IF('Rekapitulácia stavby'!E17="","",'Rekapitulácia stavby'!E17) -> Inf. Pavel Fedorko | I21: IČ DPH: | J21: =IF('Rekapitulácia stavby'!AN17="","",'Rekapitulácia stavby'!AN17) -> SK 1045067012
D23: Spracovateľ: | I23: IČO: | J23: 37682075
E24: Ing. Pavel Fedorko | I24: IČ DPH: | J24: SK 1045067012
D26: Poznámka:
D30: Cena bez DPH | J30: =ROUND(J121, 2) -> 0
F32: Základ dane | I32: Sadzba dane | J32: Výška dane
D33: DPH | E33: základná | F33: =ROUND((ROUND((SUM(BE121:BE172)), 2) + SUM(BE174:BE178)), 2) -> 0 | I33: 0.2 | J33: =ROUND((ROUND(((SUM(BE121:BE172))*I33), 2) + (SUM(BE174:BE178)*I33)), 2) -> 0
E34: znížená | F34: =ROUND((ROUND((SUM(BF121:BF172)), 2) + SUM(BF174:BF178)), 2) -> 0 | I34: 0.2 | J34: =ROUND((ROUND(((SUM(BF121:BF172))*I34), 2) + (SUM(BF174:BF178)*I34)), 2) -> 0
E35: zákl. prenesená | F35: =ROUND((ROUND((SUM(BG121:BG172)), 2) + SUM(BG174:BG178)), 2) -> 0 | I35: 0.2 | J35: =0 -> 0
E36: zníž. prenesená | F36: =ROUND((ROUND((SUM(BH121:BH172)), 2) + SUM(BH174:BH178)), 2) -> 0 | I36: 0.2 | J36: =0 -> 0
E37: nulová | F37: =ROUND((ROUND((SUM(BI121:BI172)), 2) + SUM(BI174:BI178)), 2) -> 0 | I37: 0 | J37: =0 -> 0
D39: Cena s DPH | G39: v | H39: EUR | J39: =SUM(J30:J37) -> 0
D50: Projektant | G50: Spracovateľ
D61: Dátum a podpis: | F61: Pečiatka | G61: Dátum a podpis: | J61: Pečiatka
D65: Objednávateľ | G65: Zhotoviteľ
D76: Dátum a podpis: | F76: Pečiatka | G76: Dátum a podpis: | J76: Pečiatka
C82: REKAPITULÁCIA ROZPOČTU
C84: Stavba:
E85: =E7 -> Zateplenie skladovaco expedičnej haly v areáli Šambron
C86: Objekt:
E87: =E9 -> Eli - Elektroinštalácia, osvetlenie
C89: Miesto: | F89: =F12 -> Šambron | I89: Dátum: | J89: =IF(J12="","",J12) -> 0
C91: Objednávateľ: | F91: =E15 -> AGROKARPATY, spol. s r. o. Plavnica | I91: Projektant: | J91: =E21 -> Inf. Pavel Fedorko
C92: Zhotoviteľ: | F92: =IF(E18="","",E18) -> Vyplň údaj | I92: Spracovateľ: | J92: =E24 -> Ing. Pavel Fedorko
C94: Kód dielu - Popis | J94: Cena celkom [EUR]
C96: Náklady z rozpočtu | J96: =J121 -> 0 | AU96: -1
D97: M - M | J97: =J122 -> 0
D98: 21-M - Elektromontáže | J98: =J123 -> 0
D99: 21-M-1.1 - Rozvádzače | J99: =J165 -> 0
D100: HZS - Hodinové zúčtovacie sadzby | J100: =J171 -> 0
D101: VP - Práce naviac | J101: =J173 -> 0
C108: ROZPOČET
C110: Stavba:
E111: =E7 -> Zateplenie skladovaco expedičnej haly v areáli Šambron
C112: Objekt:
E113: =E9 -> Eli - Elektroinštalácia, osvetlenie
C115: Miesto: | F115: =F12 -> Šambron | I115: Dátum: | J115: =IF(J12="","",J12) -> 0
C117: Objednávateľ: | F117: =E15 -> AGROKARPATY, spol. s r. o. Plavnica | I117: Projektant: | J117: =E21 -> Inf. Pavel Fedorko
C118: Zhotoviteľ: | F118: =IF(E18="","",E18) -> Vyplň údaj | I118: Spracovateľ: | J118: =E24 -> Ing. Pavel Fedorko
C120: PČ | D120: Typ | E120: Kód | F120: Popis | G120: MJ | H120: Množstvo | I120: J.cena [EUR] | J120: Cena celkom [EUR] | K120: Cenová sústava | N120: DPH | O120: J. Nh [h] | P120: Nh celkom [h] | Q120: J. hmotnosť [t] | R120: Hmotnosť celkom [t] | S120: J. suť [t] | T120: Suť Celkom [t] | U120: Dodávateľ
C121: Náklady z rozpočtu | J121: =BK121 -> 0 | P121: =P122+P171+P173 -> 0 | R121: =R122+R171+R173 -> 0 | T121: =T122+T171+T173 -> 0 | AT121: D | AU121: -1 | BK121: =BK122+BK171+BK173 -> 0
D122: D | E122: M | F122: M | J122: =BK122 -> 0 | P122: =P123+P165 -> 0 | R122: =R123+R165 -> 0 | T122: =T123+T165 -> 0 | AR122: 3 | AT122: D | AU122: 0 | AY122: ROZPOCET | BK122: =BK123+BK165 -> 0
D123: D | E123: 21-M | F123: Elektromontáže | J123: =BK123 -> 0 | P123: =SUM(P124:P164) -> 0 | R123: =SUM(R124:R164) -> 0 | T123: =SUM(T124:T164) -> 0 | AR123: 3 | AT123: D | AU123: 1 | AY123: ROZPOCET | BK123: =SUM(BK124:BK164) -> 0
C124: 1 | D124: K | E124: 210010003 | F124: Rúrka ohybná elektroinštalačná typ 23-23, uložená pod omietkou | G124: m | H124: 80 | J124: =ROUND(I124*H124,3) -> 0 | N124: znížená | P124: =O124*H124 -> 0 | Q124: 0 | R124: =Q124*H124 -> 0 | S124: 0 | T124: =S124*H124 -> 0 | AR124: 64 | AT124: K | AU124: 2 | AY124: ROZPOCET | BE124: =IF(N124="základná",J124,0) -> 0 | BF124: =IF(N124="znížená",J124,0) -> 0 | BG124: =IF(N124="zákl. prenesená",J124,0) -> 0 | BH124: =IF(N124="zníž. prenesená",J124,0) -> 0 | BI124: =IF(N124="nulová",J124,0) -> 0 | BJ124: 2 | BK124: =ROUND(I124*H124,3) -> 0 | BL124: 64 | BM124: 2
C125: 2 | D125: M | E125: 3450704200 | F125: I-Rúrka FX 25 | G125: m | H125: 84 | J125: =ROUND(I125*H125,3) -> 0 | N125: znížená | P125: =O125*H125 -> 0 | Q125: 0 | R125: =Q125*H125 -> 0 | S125: 0 | T125: =S125*H125 -> 0 | AR125: 256 | AT125: M | AU125: 2 | AY125: ROZPOCET | BE125: =IF(N125="základná",J125,0) -> 0 | BF125: =IF(N125="znížená",J125,0) -> 0 | BG125: =IF(N125="zákl. prenesená",J125,0) -> 0 | BH125: =IF(N125="zníž. prenesená",J125,0) -> 0 | BI125: =IF(N125="nulová",J125,0) -> 0 | BJ125: 2 | BK125: =ROUND(I125*H125,3) -> 0 | BL125: 64 | BM125: 4
C126: 3 | D126: K | E126: 210010351 | F126: Krabicová rozvodka z lisov. izolantu vrátane ukončenia káblov a zapojenia vodičov typ 6455-11 do 4 m | G126: ks | H126: 9 | J126: =ROUND(I126*H126,3) -> 0 | N126: znížená | P126: =O126*H126 -> 0 | Q126: 0 | R126: =Q126*H126 -> 0 | S126: 0 | T126: =S126*H126 -> 0 | AR126: 64 | AT126: K | AU126: 2 | AY126: ROZPOCET | BE126: =IF(N126="základná",J126,0) -> 0 | BF126: =IF(N126="znížená",J126,0) -> 0 | BG126: =IF(N126="zákl. prenesená",J126,0) -> 0 | BH126: =IF(N126="zníž. prenesená",J126,0) -> 0 | BI126: =IF(N126="nulová",J126,0) -> 0 | BJ126: 2 | BK126: =ROUND(I126*H126,3) -> 0 | BL126: 64 | BM126: 6
C127: 4 | D127: M | E127: 3450927000 | F127: Krabica 6455-11 acid | G127: ks | H127: 9 | J127: =ROUND(I127*H127,3) -> 0 | N127: znížená | P127: =O127*H127 -> 0 | Q127: 0 | R127: =Q127*H127 -> 0 | S127: 0 | T127: =S127*H127 -> 0 | AR127: 256 | AT127: M | AU127: 2 | AY127: ROZPOCET | BE127: =IF(N127="základná",J127,0) -> 0 | BF127: =IF(N127="znížená",J127,0) -> 0 | BG127: =IF(N127="zákl. prenesená",J127,0) -> 0 | BH127: =IF(N127="zníž. prenesená",J127,0) -> 0 | BI127: =IF(N127="nulová",J127,0) -> 0 | BJ127: 2 | BK127: =ROUND(I127*H127,3) -> 0 | BL127: 64 | BM127: 8
C128: 5 | D128: K | E128: 210020301 | F128: Káblový žľab Mars, pozink. vrátane príslušenstva, 40/20 mm bez veka a podpery | G128: m | H128: 40 | J128: =ROUND(I128*H128,3) -> 0 | N128: znížená | P128: =O128*H128 -> 0 | Q128: 0 | R128: =Q128*H128 -> 0 | S128: 0 | T128: =S128*H128 -> 0 | AR128: 64 | AT128: K | AU128: 2 | AY128: ROZPOCET | BE128: =IF(N128="základná",J128,0) -> 0 | BF128: =IF(N128="znížená",J128,0) -> 0 | BG128: =IF(N128="zákl. prenesená",J128,0) -> 0 | BH128: =IF(N128="zníž. prenesená",J128,0) -> 0 | BI128: =IF(N128="nulová",J128,0) -> 0 | BJ128: 2 | BK128: =ROUND(I128*H128,3) -> 0 | BL128: 64 | BM128: 10
C129: 6 | D129: M | E129: 3450600001 | F129: elektroinštalačný materiál Káblový žľab 40/20, vr. príslušentva | G129: m | H129: 40 | J129: =ROUND(I129*H129,3) -> 0 | N129: znížená | P129: =O129*H129 -> 0 | Q129: 0 | R129: =Q129*H129 -> 0 | S129: 0 | T129: =S129*H129 -> 0 | AR129: 256 | AT129: M | AU129: 2 | AY129: ROZPOCET | BE129: =IF(N129="základná",J129,0) -> 0 | BF129: =IF(N129="znížená",J129,0) -> 0 | BG129: =IF(N129="zákl. prenesená",J129,0) -> 0 | BH129: =IF(N129="zníž. prenesená",J129,0) -> 0 | BI129: =IF(N129="nulová",J129,0) -> 0 | BJ129: 2 | BK129: =ROUND(I129*H129,3) -> 0 | BL129: 64 | BM129: 12
C130: 7 | D130: K | E130: 210020651 | F130: Oceľová nosná konštrukcia pre prístroje a elektrické zariadenia hmotnosti do 5 kg | G130: ks | H130: 18 | J130: =ROUND(I130*H130,3) -> 0 | N130: znížená | P130: =O130*H130 -> 0 | Q130: 0 | R130: =Q130*H130 -> 0 | S130: 0 | T130: =S130*H130 -> 0 | AR130: 64 | AT130: K | AU130: 2 | AY130: ROZPOCET | BE130: =IF(N130="základná",J130,0) -> 0 | BF130: =IF(N130="znížená",J130,0) -> 0 | BG130: =IF(N130="zákl. prenesená",J130,0) -> 0 | BH130: =IF(N130="zníž. prenesená",J130,0) -> 0 | BI130: =IF(N130="nulová",J130,0) -> 0 | BJ130: 2 | BK130: =ROUND(I130*H130,3) -> 0 | BL130: 64 | BM130: 14
C131: 8 | D131: M | E131: 1321122400 | F131: Tyč oceľová jemná kruhová D 8 mm, ozn. 11 373, podľa EN alebo EN ISO S235JRG1 | G131: t | H131: 0.009 | J131: =ROUND(I131*H131,3) -> 0 | N131: znížená | P131: =O131*H131 -> 0 | Q131: 0 | R131: =Q131*H131 -> 0 | S131: 0 | T131: =S131*H131 -> 0 | AR131: 256 | AT131: M | AU131: 2 | AY131: ROZPOCET | BE131: =IF(N131="základná",J131,0) -> 0 | BF131: =IF(N131="znížená",J131,0) -> 0 | BG131: =IF(N131="zákl. prenesená",J131,0) -> 0 | BH131: =IF(N131="zníž. prenesená",J131,0) -> 0 | BI131: =IF(N131="nulová",J131,0) -> 0 | BJ131: 2 | BK131: =ROUND(I131*H131,3) -> 0 | BL131: 64 | BM131: 16
C132: 9 | D132: M | E132: 1322325000 | F132: Tyč oceľová plochá, š.25xhr.5 mm, ozn.11 523, podľa EN ISO S355J0 | G132: t | H132: 0.029 | J132: =ROUND(I132*H132,3) -> 0 | N132: znížená | P132: =O132*H132 -> 0 | Q132: 0 | R132: =Q132*H132 -> 0 | S132: 0 | T132: =S132*H132 -> 0 | AR132: 256 | AT132: M | AU132: 2 | AY132: ROZPOCET | BE132: =IF(N132="základná",J132,0) -> 0 | BF132: =IF(N132="znížená",J132,0) -> 0 | BG132: =IF(N132="zákl. prenesená",J132,0) -> 0 | BH132: =IF(N132="zníž. prenesená",J132,0) -> 0 | BI132: =IF(N132="nulová",J132,0) -> 0 | BJ132: 2 | BK132: =ROUND(I132*H132,3) -> 0 | BL132: 64 | BM132: 18
C133: 10 | D133: M | E133: 1323103000 | F133: Tyč oceľová prierezu L 30x30x4 mm, ozn. 11 373, podľa EN ISO S235JRG1 | G133: t | H133: 0.045 | J133: =ROUND(I133*H133,3) -> 0 | N133: znížená | P133: =O133*H133 -> 0 | Q133: 0 | R133: =Q133*H133 -> 0 | S133: 0 | T133: =S133*H133 -> 0 | AR133: 256 | AT133: M | AU133: 2 | AY133: ROZPOCET | BE133: =IF(N133="základná",J133,0) -> 0 | BF133: =IF(N133="znížená",J133,0) -> 0 | BG133: =IF(N133="zákl. prenesená",J133,0) -> 0 | BH133: =IF(N133="zníž. prenesená",J133,0) -> 0 | BI133: =IF(N133="nulová",J133,0) -> 0 | BJ133: 2 | BK133: =ROUND(I133*H133,3) -> 0 | BL133: 64 | BM133: 20
C134: 11 | D134: M | E134: 2462153500 | F134: Farba syntetická suríková S 2005 | G134: kg | H134: 0.464 | J134: =ROUND(I134*H134,3) -> 0 | N134: znížená | P134: =O134*H134 -> 0 | Q134: 0 | R134: =Q134*H134 -> 0 | S134: 0 | T134: =S134*H134 -> 0 | AR134: 256 | AT134: M | AU134: 2 | AY134: ROZPOCET | BE134: =IF(N134="základná",J134,0) -> 0 | BF134: =IF(N134="znížená",J134,0) -> 0 | BG134: =IF(N134="zákl. prenesená",J134,0) -> 0 | BH134: =IF(N134="zníž. prenesená",J134,0) -> 0 | BI134: =IF(N134="nulová",J134,0) -> 0 | BJ134: 2 | BK134: =ROUND(I134*H134,3) -> 0 | BL134: 64 | BM134: 22
C135: 12 | D135: M | E135: 2464203000 | F135: Riedidlo do olejovo-syntetickej farby S 6006 | G135: kg | H135: 0.155 | J135: =ROUND(I135*H135,3) -> 0 | N135: znížená | P135: =O135*H135 -> 0 | Q135: 0 | R135: =Q135*H135 -> 0 | S135: 0 | T135: =S135*H135 -> 0 | AR135: 256 | AT135: M | AU135: 2 | AY135: ROZPOCET | BE135: =IF(N135="základná",J135,0) -> 0 | BF135: =IF(N135="znížená",J135,0) -> 0 | BG135: =IF(N135="zákl. prenesená",J135,0) -> 0 | BH135: =IF(N135="zníž. prenesená",J135,0) -> 0 | BI135: =IF(N135="nulová",J135,0) -> 0 | BJ135: 2 | BK135: =ROUND(I135*H135,3) -> 0 | BL135: 64 | BM135: 24
... C161: 38 | D161: M | E161: 2830403500 | F161: hmoždinka klasická 8 mm T8 typ: T8-PA | G161: kus | H161: 80 | J161: =ROUND(I161*H161,3) -> 0 | N161: znížená | P161: =O161*H161 -> 0 | Q161: 0 | R161: =Q161*H161 -> 0 | S161: 0 | T161: =S161*H161 -> 0 | AR161: 256 | AT161: M | AU161: 2 | AY161: ROZPOCET | BE161: =IF(N161="základná",J161,0) -> 0 | BF161: =IF(N161="znížená",J161,0) -> 0 | BG161: =IF(N161="zákl. prenesená",J161,0) -> 0 | BH161: =IF(N161="zníž. prenesená",J161,0) -> 0 | BI161: =IF(N161="nulová",J161,0) -> 0 | BJ161: 2 | BK161: =ROUND(I161*H161,3) -> 0 | BL161: 64 | BM161: 76
C162: 39 | D162: K | E162: PM1 | F162: Podružmý materiál | G162: % | J162: =ROUND(I162*H162,3) -> 0 | N162: znížená | P162: =O162*H162 -> 0 | Q162: 0 | R162: =Q162*H162 -> 0 | S162: 0 | T162: =S162*H162 -> 0 | AR162: 64 | AT162: K | AU162: 2 | AY162: ROZPOCET | BE162: =IF(N162="základná",J162,0) -> 0 | BF162: =IF(N162="znížená",J162,0) -> 0 | BG162: =IF(N162="zákl. prenesená",J162,0) -> 0 | BH162: =IF(N162="zníž. prenesená",J162,0) -> 0 | BI162: =IF(N162="nulová",J162,0) -> 0 | BJ162: 2 | BK162: =ROUND(I162*H162,3) -> 0 | BL162: 64 | BM162: 78
C163: 40 | D163: K | E163: PPV | F163: Podiel pridružených výkonov | G163: % | J163: =ROUND(I163*H163,3) -> 0 | N163: znížená | P163: =O163*H163 -> 0 | Q163: 0 | R163: =Q163*H163 -> 0 | S163: 0 | T163: =S163*H163 -> 0 | AR163: 64 | AT163: K | AU163: 2 | AY163: ROZPOCET | BE163: =IF(N163="základná",J163,0) -> 0 | BF163: =IF(N163="znížená",J163,0) -> 0 | BG163: =IF(N163="zákl. prenesená",J163,0) -> 0 | BH163: =IF(N163="zníž. prenesená",J163,0) -> 0 | BI163: =IF(N163="nulová",J163,0) -> 0 | BJ163: 2 | BK163: =ROUND(I163*H163,3) -> 0 | BL163: 64 | BM163: 80
C164: 41 | D164: K | E164: R1 | F164: Revízia | G164: ks | H164: 1 | J164: =ROUND(I164*H164,3) -> 0 | N164: znížená | P164: =O164*H164 -> 0 | Q164: 0 | R164: =Q164*H164 -> 0 | S164: 0 | T164: =S164*H164 -> 0 | AR164: 64 | AT164: K | AU164: 2 | AY164: ROZPOCET | BE164: =IF(N164="základná",J164,0) -> 0 | BF164: =IF(N164="znížená",J164,0) -> 0 | BG164: =IF(N164="zákl. prenesená",J164,0) -> 0 | BH164: =IF(N164="zníž. prenesená",J164,0) -> 0 | BI164: =IF(N164="nulová",J164,0) -> 0 | BJ164: 2 | BK164: =ROUND(I164*H164,3) -> 0 | BL164: 64 | BM164: 82
D165: D | E165: 21-M-1.1 | F165: Rozvádzače | J165: =BK165 -> 0 | P165: =SUM(P166:P170) -> 0 | R165: =SUM(R166:R170) -> 0 | T165: =SUM(T166:T170) -> 0 | AR165: 1 | AT165: D | AU165: 1 | AY165: ROZPOCET | BK165: =SUM(BK166:BK170) -> 0
C166: 42 | D166: M | E166: M345600225.1 | F166: RH - úprava FLP B+c maxi (T1+T2), v RSM SLP 275 V/3 (T2), 3x PCHB 1N, B10 A, 30 mA, úprava krytia | G166: ks | H166: 1 | J166: =ROUND(I166*H166,3) -> 0 | N166: znížená | P166: =O166*H166 -> 0 | Q166: 0 | R166: =Q166*H166 -> 0 | S166: 0 | T166: =S166*H166 -> 0 | AR166: 8 | AT166: M | AU166: 2 | AY166: ROZPOCET | BE166: =IF(N166="základná",J166,0) -> 0 | BF166: =IF(N166="znížená",J166,0) -> 0 | BG166: =IF(N166="zákl. prenesená",J166,0) -> 0 | BH166: =IF(N166="zníž. prenesená",J166,0) -> 0 | BI166: =IF(N166="nulová",J166,0) -> 0 | BJ166: 2 | BK166: =ROUND(I166*H166,3) -> 0 | BL166: 4 | BM166: 84
C167: 43 | D167: K | E167: PD | F167: Presun dodávok | G167: % | J167: =ROUND(I167*H167,3) -> 0 | N167: znížená | P167: =O167*H167 -> 0 | Q167: 0 | R167: =Q167*H167 -> 0 | S167: 0 | T167: =S167*H167 -> 0 | AR167: 4 | AT167: K | AU167: 2 | AY167: ROZPOCET | BE167: =IF(N167="základná",J167,0) -> 0 | BF167: =IF(N167="znížená",J167,0) -> 0 | BG167: =IF(N167="zákl. prenesená",J167,0) -> 0 | BH167: =IF(N167="zníž. prenesená",J167,0) -> 0 | BI167: =IF(N167="nulová",J167,0) -> 0 | BJ167: 2 | BK167: =ROUND(I167*H167,3) -> 0 | BL167: 4 | BM167: 86
C168: 44 | D168: K | E168: PM | F168: Podružný materiál | G168: % | J168: =ROUND(I168*H168,3) -> 0 | N168: znížená | P168: =O168*H168 -> 0 | Q168: 0 | R168: =Q168*H168 -> 0 | S168: 0 | T168: =S168*H168 -> 0 | AR168: 4 | AT168: K | AU168: 2 | AY168: ROZPOCET | BE168: =IF(N168="základná",J168,0) -> 0 | BF168: =IF(N168="znížená",J168,0) -> 0 | BG168: =IF(N168="zákl. prenesená",J168,0) -> 0 | BH168: =IF(N168="zníž. prenesená",J168,0) -> 0 | BI168: =IF(N168="nulová",J168,0) -> 0 | BJ168: 2 | BK168: =ROUND(I168*H168,3) -> 0 | BL168: 4 | BM168: 88
C169: 45 | D169: K | E169: PPV | F169: Podiel pridružených výkonov | G169: % | J169: =ROUND(I169*H169,3) -> 0 | N169: znížená | P169: =O169*H169 -> 0 | Q169: 0 | R169: =Q169*H169 -> 0 | S169: 0 | T169: =S169*H169 -> 0 | AR169: 4 | AT169: K | AU169: 2 | AY169: ROZPOCET | BE169: =IF(N169="základná",J169,0) -> 0 | BF169: =IF(N169="znížená",J169,0) -> 0 | BG169: =IF(N169="zákl. prenesená",J169,0) -> 0 | BH169: =IF(N169="zníž. prenesená",J169,0) -> 0 | BI169: =IF(N169="nulová",J169,0) -> 0 | BJ169: 2 | BK169: =ROUND(I169*H169,3) -> 0 | BL169: 4 | BM169: 90
C170: 46 | D170: K | E170: R_RH-1 | F170: MNT, vr. spoj. materiálu, vodičov a prepoj. líšt rozvádzača, atesty | G170: % | J170: =ROUND(I170*H170,3) -> 0 | N170: znížená | P170: =O170*H170 -> 0 | Q170: 0 | R170: =Q170*H170 -> 0 | S170: 0 | T170: =S170*H170 -> 0 | AR170: 4 | AT170: K | AU170: 2 | AY170: ROZPOCET | BE170: =IF(N170="základná",J170,0) -> 0 | BF170: =IF(N170="znížená",J170,0) -> 0 | BG170: =IF(N170="zákl. prenesená",J170,0) -> 0 | BH170: =IF(N170="zníž. prenesená",J170,0) -> 0 | BI170: =IF(N170="nulová",J170,0) -> 0 | BJ170: 2 | BK170: =ROUND(I170*H170,3) -> 0 | BL170: 4 | BM170: 92
D171: D | E171: HZS | F171: Hodinové zúčtovacie sadzby | J171: =BK171 -> 0 | P171: =P172 -> 0 | R171: =R172 -> 0 | T171: =T172 -> 0 | AR171: 4 | AT171: D | AU171: 0 | AY171: ROZPOCET | BK171: =BK172 -> 0
C172: 47 | D172: K | E172: HZS000111.1 | F172: DMT práce - stavebno montážne práce menej náročne, pomocné alebo manupulačné (Tr 1) v rozsahu viac ako 8 hodín | G172: hod | H172: 10 | J172: =ROUND(I172*H172,3) -> 0 | N172: znížená | P172: =O172*H172 -> 0 | Q172: 0 | R172: =Q172*H172 -> 0 | S172: 0 | T172: =S172*H172 -> 0 | AR172: 262144 | AT172: K | AU172: 1 | AY172: ROZPOCET | BE172: =IF(N172="základná",J172,0) -> 0 | BF172: =IF(N172="znížená",J172,0) -> 0 | BG172: =IF(N172="zákl. prenesená",J172,0) -> 0 | BH172: =IF(N172="zníž. prenesená",J172,0) -> 0 | BI172: =IF(N172="nulová",J172,0) -> 0 | BJ172: 2 | BK172: =ROUND(I172*H172,3) -> 0 | BL172: 262144 | BM172: 94
E173: VP | F173: Práce naviac | J173: =BK173 -> 0 | AT173: D | AU173: 0 | AY173: PN | BK173: =SUM(BK174:BK178) -> 0
D174: K | J174: =BK174 -> 0 | N174: znížená | AT174: PN | AU174: 1 | AY174: PN | BE174: =IF(N174="základná",J174,0) -> 0 | BF174: =IF(N174="znížená",J174,0) -> 0 | BG174: =IF(N174="zákl. prenesená",J174,0) -> 0 | BH174: =IF(N174="zníž. prenesená",J174,0) -> 0 | BI174: =IF(N174="nulová",J174,0) -> 0 | BJ174: 2 | BK174: =I174*H174 -> 0
D175: K | J175: =BK175 -> 0 | N175: znížená | AT175: PN | AU175: 1 | AY175: PN | BE175: =IF(N175="základná",J175,0) -> 0 | BF175: =IF(N175="znížená",J175,0) -> 0 | BG175: =IF(N175="zákl. prenesená",J175,0) -> 0 | BH175: =IF(N175="zníž. prenesená",J175,0) -> 0 | BI175: =IF(N175="nulová",J175,0) -> 0 | BJ175: 2 | BK175: =I175*H175 -> 0
D176: K | J176: =BK176 -> 0 | N176: znížená | AT176: PN | AU176: 1 | AY176: PN | BE176: =IF(N176="základná",J176,0) -> 0 | BF176: =IF(N176="znížená",J176,0) -> 0 | BG176: =IF(N176="zákl. prenesená",J176,0) -> 0 | BH176: =IF(N176="zníž. prenesená",J176,0) -> 0 | BI176: =IF(N176="nulová",J176,0) -> 0 | BJ176: 2 | BK176: =I176*H176 -> 0
D177: K | J177: =BK177 -> 0 | N177: znížená | AT177: PN | AU177: 1 | AY177: PN | BE177: =IF(N177="základná",J177,0) -> 0 | BF177: =IF(N177="znížená",J177,0) -> 0 | BG177: =IF(N177="zákl. prenesená",J177,0) -> 0 | BH177: =IF(N177="zníž. prenesená",J177,0) -> 0 | BI177: =IF(N177="nulová",J177,0) -> 0 | BJ177: 2 | BK177: =I177*H177 -> 0
D178: K | J178: =BK178 -> 0 | N178: znížená | AT178: PN | AU178: 1 | AY178: PN | BE178: =IF(N178="základná",J178,0) -> 0 | BF178: =IF(N178="znížená",J178,0) -> 0 | BG178: =IF(N178="zákl. prenesená",J178,0) -> 0 | BH178: =IF(N178="zníž. prenesená",J178,0) -> 0 | BI178: =IF(N178="nulová",J178,0) -> 0 | BJ178: 2 | BK178: =I178*H178 -> 0
